BEGIN:VCALENDAR
VERSION:2.0
PRODID:-//Powder Creek Cowboys - ECPv6.15.20//NONSGML v1.0//EN
CALSCALE:GREGORIAN
METHOD:PUBLISH
X-ORIGINAL-URL:https://powdercreekcowboys.com
X-WR-CALDESC:Events for Powder Creek Cowboys
REFRESH-INTERVAL;VALUE=DURATION:PT1H
X-Robots-Tag:noindex
X-PUBLISHED-TTL:PT1H
BEGIN:VTIMEZONE
TZID:UTC
BEGIN:STANDARD
TZOFFSETFROM:+0000
TZOFFSETTO:+0000
TZNAME:UTC
DTSTART:20230101T000000
END:STANDARD
END:VTIMEZONE
BEGIN:VEVENT
DTSTART;TZID=UTC:20240731T080000
DTEND;TZID=UTC:20240731T130000
DTSTAMP:20260421T121547
CREATED:20240731T183013Z
LAST-MODIFIED:20240731T183014Z
UID:10000760-1722412800-1722430800@powdercreekcowboys.com
SUMMARY:Bonus Work Shirkers Match
DESCRIPTION:2024 Work Shirkers July 31 (7_31_24)_ Overall Winners Details by Time\n2024 Work Shirkers July 31 (7_31_24)_ Category Winners Details by Time\n2024 Work Shirkers July 31 (7_31_24)_ Clean shooters\nGates open at 8:00\nSafety Meeting at 8:45\nMatch begins at 9:00 AM
URL:https://powdercreekcowboys.com/event/bonus-work-shirkers-match-2-4/
LOCATION:Powder Creek Shooting Park\, 8601 Monticello Rd.\, Lenexa\, KS\, 66227\, United States
CATEGORIES:Work Shirkers
END:VEVENT
END:VCALENDAR