BEGIN:VCALENDAR
VERSION:2.0
PRODID:-//Powder Creek Cowboys - ECPv6.15.20//NONSGML v1.0//EN
CALSCALE:GREGORIAN
METHOD:PUBLISH
X-ORIGINAL-URL:https://powdercreekcowboys.com
X-WR-CALDESC:Events for Powder Creek Cowboys
REFRESH-INTERVAL;VALUE=DURATION:PT1H
X-Robots-Tag:noindex
X-PUBLISHED-TTL:PT1H
BEGIN:VTIMEZONE
TZID:UTC
BEGIN:STANDARD
TZOFFSETFROM:+0000
TZOFFSETTO:+0000
TZNAME:UTC
DTSTART:20230101T000000
END:STANDARD
END:VTIMEZONE
BEGIN:VEVENT
DTSTART;TZID=UTC:20240807T080000
DTEND;TZID=UTC:20240807T130000
DTSTAMP:20260421T121526
CREATED:20240710T144054Z
LAST-MODIFIED:20240807T221019Z
UID:10000562-1723017600-1723035600@powdercreekcowboys.com
SUMMARY:Work Shirkers Match
DESCRIPTION:Match results \n\n2024 Work Shirkers Aug 7 (8_7_24)_ Category Winners Details by Time\n2024 Work Shirkers Aug 7 (8_7_24)_ Clean shooters\n2024 Work Shirkers Aug 7 (8_7_24)_ Overall Winners Details by Time\nGates Open at 8:00\nSafety Meeting at 8:45\nMatch begins at 9:00
URL:https://powdercreekcowboys.com/event/work-shirkers-match-6/
LOCATION:Powder Creek Shooting Park\, 8601 Monticello Rd.\, Lenexa\, KS\, 66227\, United States
CATEGORIES:Match Results,Work Shirkers
END:VEVENT
END:VCALENDAR