BEGIN:VCALENDAR
VERSION:2.0
PRODID:-//Powder Creek Cowboys - ECPv6.15.20//NONSGML v1.0//EN
CALSCALE:GREGORIAN
METHOD:PUBLISH
X-ORIGINAL-URL:https://powdercreekcowboys.com
X-WR-CALDESC:Events for Powder Creek Cowboys
REFRESH-INTERVAL;VALUE=DURATION:PT1H
X-Robots-Tag:noindex
X-PUBLISHED-TTL:PT1H
BEGIN:VTIMEZONE
TZID:UTC
BEGIN:STANDARD
TZOFFSETFROM:+0000
TZOFFSETTO:+0000
TZNAME:UTC
DTSTART:20230101T000000
END:STANDARD
END:VTIMEZONE
BEGIN:VEVENT
DTSTART;TZID=UTC:20240824T080000
DTEND;TZID=UTC:20240824T120000
DTSTAMP:20260421T121526
CREATED:20240819T131249Z
LAST-MODIFIED:20240824T190345Z
UID:10000938-1724486400-1724500800@powdercreekcowboys.com
SUMMARY:4th Saturday Make up Match
DESCRIPTION:2024 Saturday Aug 24 (8_24_24)_ Overall Winners Details by Time \n2024 Saturday Aug 24 (8_24_24)_ Category Winners Details by Time \n2024 Saturday Aug 24 (8_24_24)_ Clean shooters \nDetails: \n\nGates Open at 8:00 AM\nSafety Meeting at 8:45 AM\nMatch Begins at 9:00 AM\n\nSummer Cowboy Dress is acceptable for this match.
URL:https://powdercreekcowboys.com/event/4th-saturday-make-up-match/
LOCATION:Powder Creek Shooting Park\, 8601 Monticello Rd.\, Lenexa\, KS\, 66227\, United States
END:VEVENT
END:VCALENDAR