BEGIN:VCALENDAR
VERSION:2.0
PRODID:-//Powder Creek Cowboys - ECPv6.15.20//NONSGML v1.0//EN
CALSCALE:GREGORIAN
METHOD:PUBLISH
X-WR-CALNAME:Powder Creek Cowboys
X-ORIGINAL-URL:https://powdercreekcowboys.com
X-WR-CALDESC:Events for Powder Creek Cowboys
REFRESH-INTERVAL;VALUE=DURATION:PT1H
X-Robots-Tag:noindex
X-PUBLISHED-TTL:PT1H
BEGIN:VTIMEZONE
TZID:UTC
BEGIN:STANDARD
TZOFFSETFROM:+0000
TZOFFSETTO:+0000
TZNAME:UTC
DTSTART:20250101T000000
END:STANDARD
END:VTIMEZONE
BEGIN:VEVENT
DTSTART;TZID=UTC:20260527T120000
DTEND;TZID=UTC:20260527T150000
DTSTAMP:20260420T102854
CREATED:20251123T060055Z
LAST-MODIFIED:20251123T060055Z
UID:10002378-1779883200-1779894000@powdercreekcowboys.com
SUMMARY:Work Shirkers
DESCRIPTION:Match Details: \n\nRegistration Open 12:00 Noon\nSafety Meeting at 12:45 PM\nMatch begins at 1:00 PM
URL:https://powdercreekcowboys.com/event/work-shirkers-21-18-2-2/
LOCATION:Powder Creek Shooting Park\, 8601 Monticello Rd.\, Lenexa\, KS\, 66227\, United States
CATEGORIES:Work Shirkers
END:VEVENT
END:VCALENDAR