BEGIN:VCALENDAR
VERSION:2.0
PRODID:-//Powder Creek Cowboys - ECPv6.15.20//NONSGML v1.0//EN
CALSCALE:GREGORIAN
METHOD:PUBLISH
X-ORIGINAL-URL:https://powdercreekcowboys.com
X-WR-CALDESC:Events for Powder Creek Cowboys
REFRESH-INTERVAL;VALUE=DURATION:PT1H
X-Robots-Tag:noindex
X-PUBLISHED-TTL:PT1H
BEGIN:VTIMEZONE
TZID:UTC
BEGIN:STANDARD
TZOFFSETFROM:+0000
TZOFFSETTO:+0000
TZNAME:UTC
DTSTART:20220101T000000
END:STANDARD
END:VTIMEZONE
BEGIN:VEVENT
DTSTART;TZID=UTC:20260110T090000
DTEND;TZID=UTC:20260110T130000
DTSTAMP:20260421T080120
CREATED:20260111T005713Z
LAST-MODIFIED:20260111T005721Z
UID:10002761-1768035600-1768050000@powdercreekcowboys.com
SUMMARY:Second Saturday Cowboy Match
DESCRIPTION:Match Results: \n\nClean shooters\nOverall Winners Details by Time\nCategory Winners Details by Time
URL:https://powdercreekcowboys.com/event/second-saturday-monthly-match-10-8-6/
LOCATION:Powder Creek Shooting Park\, 8601 Monticello Rd.\, Lenexa\, KS\, 66227\, United States
CATEGORIES:2nd Saturday Shoot,Match Results
END:VEVENT
BEGIN:VEVENT
DTSTART;TZID=UTC:20251206T130000
DTEND;TZID=UTC:20251206T160000
DTSTAMP:20260421T080120
CREATED:20251208T150353Z
LAST-MODIFIED:20251208T150353Z
UID:10002701-1765026000-1765036800@powdercreekcowboys.com
SUMMARY:Pop up match December 6\, 2025
DESCRIPTION:Match results: \n2025 12-6 Makeup Saturday (12_6_25)_ Clean shooters \n2025 12-6 Makeup Saturday (12_6_25)_ Overall Winners Details by Time \n2025 12-6 Makeup Saturday (12_6_25)_ Category Winners Details by Time
URL:https://powdercreekcowboys.com/event/pop-up-match-december-6-2025/
LOCATION:Powder Creek Shooting Park\, 8601 Monticello Rd.\, Lenexa\, KS\, 66227\, United States
CATEGORIES:Match Results
END:VEVENT
BEGIN:VEVENT
DTSTART;TZID=UTC:20250830T080000
DTEND;TZID=UTC:20250831T140000
DTSTAMP:20260421T080120
CREATED:20250731T013319Z
LAST-MODIFIED:20250901T010313Z
UID:10001888-1756540800-1756648800@powdercreekcowboys.com
SUMMARY:Mayhem at Monticello Kansas State Wild Bunch Championship
DESCRIPTION:Match Results: \n\nKansas State Wild Bunch 2025 (8_30_25 – 8_31_25)_ Category Winners by Time\nKansas State Wild Bunch 2025 (8_30_25 – 8_31_25)_ Overall Winners by Time\nKansas State Wild Bunch 2025 (8_30_25 – 8_31_25)_ Overall Winners Details by Time
URL:https://powdercreekcowboys.com/event/mayhem-at-monticello-kansas-state-wild-bunch-championship-3/
LOCATION:Powder Creek Shooting Park\, 8601 Monticello Rd.\, Lenexa\, KS\, 66227\, United States
CATEGORIES:Match Results,Special Event,State Match,Wild Bunch
END:VEVENT
BEGIN:VEVENT
DTSTART;TZID=UTC:20250806T080000
DTEND;TZID=UTC:20250806T130000
DTSTAMP:20260421T080120
CREATED:20250806T231215Z
LAST-MODIFIED:20250806T231244Z
UID:10001890-1754467200-1754485200@powdercreekcowboys.com
SUMMARY:Bonus Work Shirkers Match August
DESCRIPTION:Match Results: \n\n2025 Popup Woekshirkers (8_6_25)_ Overall Winners Details by Time\n2025 Popup Woekshirkers (8_6_25)_ Clean shooters\n2025 Popup Woekshirkers (8_6_25)_ Category Winners Details by Time
URL:https://powdercreekcowboys.com/event/bonus-work-shirkers-match-august/
LOCATION:Powder Creek Shooting Park\, 8601 Monticello Rd.\, Lenexa\, KS\, 66227\, United States
CATEGORIES:Match Results,Special Event,Work Shirkers
END:VEVENT
BEGIN:VEVENT
DTSTART;TZID=UTC:20250510T090000
DTEND;TZID=UTC:20250510T130000
DTSTAMP:20260421T080120
CREATED:20250312T144106Z
LAST-MODIFIED:20250510T203405Z
UID:10000693-1746867600-1746882000@powdercreekcowboys.com
SUMMARY:Second Saturday Monthly Match
DESCRIPTION:Match Results: \n\n2025 2nd Sat 5_10_25 (5_10_25)_ Category Winners Details by Time\n2025 2nd Sat 5_10_25 (5_10_25)_ Overall Winners Details by Time\n2025 2nd Sat 5_10_25 (5_10_25)_ Clean shooters
URL:https://powdercreekcowboys.com/event/second-saturday-monthly-match-15/
LOCATION:Powder Creek Shooting Park\, 8601 Monticello Rd.\, Lenexa\, KS\, 66227\, United States
CATEGORIES:2nd Saturday Shoot,Match Results
END:VEVENT
BEGIN:VEVENT
DTSTART;TZID=UTC:20250409T120000
DTEND;TZID=UTC:20250409T160000
DTSTAMP:20260421T080120
CREATED:20250409T235308Z
LAST-MODIFIED:20250409T235308Z
UID:10001343-1744200000-1744214400@powdercreekcowboys.com
SUMMARY:Pop Up Work Shirkers Match
DESCRIPTION:Match Results: \n\n2025 April 9 WS Pop Up Match (4_9_25)_ Overall Winners Details by Time\n2025 April 9 WS Pop Up Match (4_9_25)_ Category Winners Details by Time\n2025 April 9 WS Pop Up Match (4_9_25)_ Clean shooters
URL:https://powdercreekcowboys.com/event/pop-up-work-shirkers-match/
LOCATION:Powder Creek Shooting Park\, 8601 Monticello Rd.\, Lenexa\, KS\, 66227\, United States
CATEGORIES:Match Results,Work Shirkers
END:VEVENT
BEGIN:VEVENT
DTSTART;TZID=UTC:20250320T113000
DTEND;TZID=UTC:20250320T150000
DTSTAMP:20260421T080120
CREATED:20250320T215228Z
LAST-MODIFIED:20250320T215438Z
UID:10001022-1742470200-1742482800@powdercreekcowboys.com
SUMMARY:Work Shirkers
DESCRIPTION:Match results: \n\n2025 March 20 WS Match (3_20_25)_ Clean shooters\n2025 March 20 WS Match (3_20_25)_ Overall Winners Details by Time\n2025 March 20 WS Match (3_20_25)_ Category Winners Details by Time\n\nMatch Details: \n\nRegistration Begins at 11:30 AM\nSafety Meeting at 12:45 PM\nMatch begins at 1:00 PM
URL:https://powdercreekcowboys.com/event/work-shirkers-33/
LOCATION:Powder Creek Shooting Park\, 8601 Monticello Rd.\, Lenexa\, KS\, 66227\, United States
CATEGORIES:Match Results,Work Shirkers
END:VEVENT
BEGIN:VEVENT
DTSTART;TZID=UTC:20250223T113000
DTEND;TZID=UTC:20250223T153000
DTSTAMP:20260421T080120
CREATED:20250223T222905Z
LAST-MODIFIED:20250308T005243Z
UID:10001141-1740310200-1740324600@powdercreekcowboys.com
SUMMARY:Postponed Fourth Saturday Shoot
DESCRIPTION:Match Results \n\nOverall Winners Details by Time\nCategory Winners Details by Time\nClean shooters
URL:https://powdercreekcowboys.com/event/fourth-saturday-shoot-22/
LOCATION:Powder Creek Shooting Park\, 8601 Monticello Rd.\, Lenexa\, KS\, 66227\, United States
CATEGORIES:4th Saturday Shoot,Match Results
END:VEVENT
BEGIN:VEVENT
DTSTART;TZID=UTC:20241228T093000
DTEND;TZID=UTC:20241228T133000
DTSTAMP:20260421T080120
CREATED:20241229T002101Z
LAST-MODIFIED:20241229T002127Z
UID:10001139-1735378200-1735392600@powdercreekcowboys.com
SUMMARY:Fourth Saturday Shoot
DESCRIPTION:Match Results: \n\n2024 4th Sat Dec 28 (12_28_24)_ Category Winners Details by Time\n2024 4th Sat Dec 28 (12_28_24)_ Overall Winners Details by Time\n2024 4th Sat Dec 28 (12_28_24)_ Clean shooters\n\nMatch Details: \n\nGates Open at 9:30 AM\nSafety Meeting at 10:15 AM\nMatch begins at 10:30 AM
URL:https://powdercreekcowboys.com/event/fourth-saturday-shoot-19-4/
LOCATION:Powder Creek Shooting Park\, 8601 Monticello Rd.\, Lenexa\, KS\, 66227\, United States
CATEGORIES:4th Saturday Shoot,Match Results
END:VEVENT
BEGIN:VEVENT
DTSTART;TZID=UTC:20241127T080000
DTEND;TZID=UTC:20241127T170000
DTSTAMP:20260421T080120
CREATED:20240910T233915Z
LAST-MODIFIED:20241128T022432Z
UID:10000625-1732694400-1732726800@powdercreekcowboys.com
SUMMARY:Work Shirkers
DESCRIPTION:Match Results: \n\n2024 WS 11_27_2024 (11_27_24)_ Clean shooters\n2024 WS 11_27_2024 (11_27_24)_ Category Winners Details by Time\n2024 WS 11_27_2024 (11_27_24)_ Overall Winners Details by Time
URL:https://powdercreekcowboys.com/event/work-shirkers-28/
LOCATION:Powder Creek Shooting Park\, 8601 Monticello Rd.\, Lenexa\, KS\, 66227\, United States
CATEGORIES:Match Results,Work Shirkers
END:VEVENT
BEGIN:VEVENT
DTSTART;TZID=UTC:20241030T080000
DTEND;TZID=UTC:20241030T130000
DTSTAMP:20260421T080120
CREATED:20241031T005426Z
LAST-MODIFIED:20241031T005427Z
UID:10000761-1730275200-1730293200@powdercreekcowboys.com
SUMMARY:Bonus Work Shirkers Match
DESCRIPTION:Match Results: \n\n2024 WS 10_30_24 (10_30_24)_ Category Winners Details by Time\n2024 WS 10_30_24 (10_30_24)_ Overall Winners Details by Time\n2024 WS 10_30_24 (10_30_24)_ Clean shooters
URL:https://powdercreekcowboys.com/event/bonus-work-shirkers-match-2-5/
LOCATION:Powder Creek Shooting Park\, 8601 Monticello Rd.\, Lenexa\, KS\, 66227\, United States
CATEGORIES:Match Results,Work Shirkers
END:VEVENT
BEGIN:VEVENT
DTSTART;TZID=UTC:20240807T080000
DTEND;TZID=UTC:20240807T130000
DTSTAMP:20260421T080120
CREATED:20240710T144054Z
LAST-MODIFIED:20240807T221019Z
UID:10000562-1723017600-1723035600@powdercreekcowboys.com
SUMMARY:Work Shirkers Match
DESCRIPTION:Match results \n\n2024 Work Shirkers Aug 7 (8_7_24)_ Category Winners Details by Time\n2024 Work Shirkers Aug 7 (8_7_24)_ Clean shooters\n2024 Work Shirkers Aug 7 (8_7_24)_ Overall Winners Details by Time\nGates Open at 8:00\nSafety Meeting at 8:45\nMatch begins at 9:00
URL:https://powdercreekcowboys.com/event/work-shirkers-match-6/
LOCATION:Powder Creek Shooting Park\, 8601 Monticello Rd.\, Lenexa\, KS\, 66227\, United States
CATEGORIES:Match Results,Work Shirkers
END:VEVENT
BEGIN:VEVENT
DTSTART;TZID=UTC:20240803T080000
DTEND;TZID=UTC:20240803T170000
DTSTAMP:20260421T080120
CREATED:20240819T030317Z
LAST-MODIFIED:20240819T054738Z
UID:10000753-1722672000-1722704400@powdercreekcowboys.com
SUMMARY:Wild Bunch Monthly Match
DESCRIPTION:Wild Bunch Aug 3 (8_3_24)_ Overall Winners Details by Time\nGates open at 8:00\nSafety meeting at 8:45\nMatch Begins at 9:00
URL:https://powdercreekcowboys.com/event/wild-bunch-monthly-match-4-4-3/
LOCATION:Powder Creek Shooting Park\, 8601 Monticello Rd.\, Lenexa\, KS\, 66227\, United States
CATEGORIES:Match Results,Wild Bunch
END:VEVENT
BEGIN:VEVENT
DTSTART;TZID=UTC:20240313T080000
DTEND;TZID=UTC:20240313T130000
DTSTAMP:20260421T080120
CREATED:20231219T020129Z
LAST-MODIFIED:20240314T022433Z
UID:10000557-1710316800-1710334800@powdercreekcowboys.com
SUMMARY:Work Shirkers Match
DESCRIPTION:Match Results: \n\n2024 March 1st WS (3_13_24)_ Category Winners Details by Time\n2024 March 1st WS (3_13_24)_ Overall Winners Details by Time\n2024 March 1st WS (3_13_24)_ Clean shooters
URL:https://powdercreekcowboys.com/event/work-shirkers-match-5/
LOCATION:Powder Creek Shooting Park\, 8601 Monticello Rd.\, Lenexa\, KS\, 66227\, United States
CATEGORIES:Match Results,Work Shirkers
END:VEVENT
BEGIN:VEVENT
DTSTART;TZID=UTC:20240203T080000
DTEND;TZID=UTC:20240203T170000
DTSTAMP:20260421T080120
CREATED:20240205T172024Z
LAST-MODIFIED:20240205T181143Z
UID:10000747-1706947200-1706979600@powdercreekcowboys.com
SUMMARY:Wild Bunch Monthly Match
DESCRIPTION:Match Results: \nWild Bunch – Feb 3_ 2024 (2_3_24)_ Category Winners Details by Time \nWild Bunch – Feb 3_ 2024 (2_3_24)_ Overall Winners Details by Time
URL:https://powdercreekcowboys.com/event/wild-bunch-monthly-match-4-2/
LOCATION:Powder Creek Shooting Park\, 8601 Monticello Rd.\, Lenexa\, KS\, 66227\, United States
CATEGORIES:Match Results,Wild Bunch
END:VEVENT
BEGIN:VEVENT
DTSTART;TZID=UTC:20240127T080000
DTEND;TZID=UTC:20240127T130000
DTSTAMP:20260421T080120
CREATED:20240128T010213Z
LAST-MODIFIED:20240128T010241Z
UID:10000519-1706342400-1706360400@powdercreekcowboys.com
SUMMARY:Fourth Saturday Shoot
DESCRIPTION:Match Results: \n\nJan 2024 4th Saturday (1_27_24)_ Category Winners Details by Time\nJan 2024 4th Saturday (1_27_24)_ Overall Winners Details by Time\nJan 2024 4th Saturday (1_27_24)_ Clean shooters\n\nMatch Details: \n\nGates Open at 8:30 AM\nMandatory Safety Meeting is at 9:45 AM\nMatch will Start Promptly at 10:00 AM\n\nYou must be present for the safety meeting to compete in this match.  Please use caution in the heat.  We recommend that you bring water to the match as none is available at the range.  Summer Cowboy Dress is in effect for this match.  Please contact Cooncan at cooncan.pcc@gmail.com with any questions. \nNew Shooters please indicate when signing up that this is your first match and what your skill level is so we can get you the appropriate mentor for the match.
URL:https://powdercreekcowboys.com/event/fourth-saturday-shoot-14-8-6/
LOCATION:Powder Creek Shooting Park\, 8601 Monticello Rd.\, Lenexa\, KS\, 66227\, United States
CATEGORIES:4th Saturday Shoot,Match Results
END:VEVENT
BEGIN:VEVENT
DTSTART;TZID=UTC:20240124T130000
DTEND;TZID=UTC:20240124T160000
DTSTAMP:20260421T080120
CREATED:20240125T000329Z
LAST-MODIFIED:20240125T150303Z
UID:10000771-1706101200-1706112000@powdercreekcowboys.com
SUMMARY:Pop Up Work Shirkers make up match
DESCRIPTION:  \n\nJan 2024 2nd Work Shirkers (1_24_24)_ Clean shooters\nJan 2024 2nd Work Shirkers (1_24_24)_ Category Winners Details by Time\nJan 2024 2nd Work Shirkers (1_24_24)_ Overall Winners Details by Time
URL:https://powdercreekcowboys.com/event/pop-up-work-shirkers-make-up-match/
LOCATION:Powder Creek Shooting Park\, 8601 Monticello Rd.\, Lenexa\, KS\, 66227\, United States
CATEGORIES:Match Results,Work Shirkers
END:VEVENT
BEGIN:VEVENT
DTSTART;TZID=UTC:20231230T080000
DTEND;TZID=UTC:20231230T130000
DTSTAMP:20260421T080120
CREATED:20230926T201607Z
LAST-MODIFIED:20231231T005712Z
UID:10000518-1703923200-1703941200@powdercreekcowboys.com
SUMMARY:Fourth Saturday Shoot
DESCRIPTION:Match Results: \nNote: There were no clean shooters for this match \n\nDecember 2023 2nd Saturday (12_30_23)_ Category Winners Details by Time\nDecember 2023 2nd Saturday (12_30_23)_ Overall Winners Details by Time\n\nMatch Details: \n\nGates Open at 8:00 AM\nMandatory Safety Meeting is at 8:45 AM\nMatch will Start Promptly at 10:00 AM\n\nYou must be present for the safety meeting to compete in this match.  Please use caution in the heat.  We recommend that you bring water to the match as none is available at the range. \nNew Shooters please indicate when signing up that this is your first match and what your skill level is so we can get you the appropriate mentor for the match.
URL:https://powdercreekcowboys.com/event/fourth-saturday-shoot-15/
LOCATION:Powder Creek Shooting Park\, 8601 Monticello Rd.\, Lenexa\, KS\, 66227\, United States
CATEGORIES:4th Saturday Shoot,Match Results
END:VEVENT
BEGIN:VEVENT
DTSTART;TZID=UTC:20231216T083000
DTEND;TZID=UTC:20231216T130000
DTSTAMP:20260421T080120
CREATED:20230926T200453Z
LAST-MODIFIED:20231216T190501Z
UID:10000676-1702715400-1702731600@powdercreekcowboys.com
SUMMARY:Second Saturday Monthly Match
DESCRIPTION:December 2023 1st Saturday (12_16_23)_ Overall Winners Details by Time \nDecember 2023 1st Saturday (12_16_23)_ Category Winners Details by Time \nDecember 2023 1st Saturday (12_16_23)_ Clean shooters \n 
URL:https://powdercreekcowboys.com/event/second-saturday-monthly-match-3/
LOCATION:Powder Creek Shooting Park\, 8601 Monticello Rd.\, Lenexa\, KS\, 66227\, United States
CATEGORIES:2nd Saturday Shoot,Match Results
END:VEVENT
BEGIN:VEVENT
DTSTART;TZID=UTC:20231206T080000
DTEND;TZID=UTC:20231206T130000
DTSTAMP:20260421T080120
CREATED:20231207T041935Z
LAST-MODIFIED:20231207T045100Z
UID:10000554-1701849600-1701867600@powdercreekcowboys.com
SUMMARY:Work Shirkers Match
DESCRIPTION:Match Results: \n\nDecember 2023 1st Work Shirkers (12_6_23)_ Overall Winners Details by Time\nDecember 2023 1st Work Shirkers (12_6_23)_ Category Winners Details by Time\nDecember 2023 1st Work Shirkers (12_6_23)_ Clean shooters
URL:https://powdercreekcowboys.com/event/work-shirkers-match-2-5/
LOCATION:Powder Creek Shooting Park\, 8601 Monticello Rd.\, Lenexa\, KS\, 66227\, United States
CATEGORIES:Match Results,Work Shirkers
END:VEVENT
BEGIN:VEVENT
DTSTART;TZID=UTC:20231203T120000
DTEND;TZID=UTC:20231203T150000
DTSTAMP:20260421T080120
CREATED:20231204T151724Z
LAST-MODIFIED:20231204T151724Z
UID:10000744-1701604800-1701615600@powdercreekcowboys.com
SUMMARY:Makeup Shoot December 3\, 2023
DESCRIPTION:Match Results: \n\nDec. 3rd Popup Shoot (12_3_23)_ Category Winners Details by Time\nDec. 3rd Popup Shoot (12_3_23)_ Clean shooters\nDec. 3rd Popup Shoot (12_3_23)_ Overall Winners Details by Time
URL:https://powdercreekcowboys.com/event/makeup-shoot-december-3-2023/
LOCATION:Powder Creek Shooting Park\, 8601 Monticello Rd.\, Lenexa\, KS\, 66227\, United States
CATEGORIES:2nd Saturday Shoot,4th Saturday Shoot,Match Results,Work Shirkers
END:VEVENT
BEGIN:VEVENT
DTSTART;TZID=UTC:20231202T080000
DTEND;TZID=UTC:20231202T170000
DTSTAMP:20260421T080120
CREATED:20231204T151507Z
LAST-MODIFIED:20231204T151508Z
UID:10000393-1701504000-1701536400@powdercreekcowboys.com
SUMMARY:Wild Bunch Monthly Match
DESCRIPTION:Match Results: \n\nWild Bunch. 12-2-23 (12_2_23)_ Overall Winners Details by Time\nWild Bunch. 12-2-23 (12_2_23)_ Clean shooters
URL:https://powdercreekcowboys.com/event/wild-bunch-match-august-2022-10-01-12/
LOCATION:Powder Creek Shooting Park\, 8601 Monticello Rd.\, Lenexa\, KS\, 66227\, United States
CATEGORIES:Match Results,Wild Bunch
END:VEVENT
BEGIN:VEVENT
DTSTART;TZID=UTC:20231129T080000
DTEND;TZID=UTC:20231129T170000
DTSTAMP:20260421T080120
CREATED:20231130T155326Z
LAST-MODIFIED:20231130T155438Z
UID:10000743-1701244800-1701277200@powdercreekcowboys.com
SUMMARY:Bonus Work Shirkers Match
DESCRIPTION:Match Results: \n\nNov 29th 2023 3rd WS (11_29_23)_ Clean shooters\nNov 29th 2023 3rd WS (11_29_23)_ Category Winners Details by Time\nNov 29th 2023 3rd WS (11_29_23)_ Overall Winners Details by Time
URL:https://powdercreekcowboys.com/event/bonus-work-shirkers-match/
LOCATION:Powder Creek Shooting Park\, 8601 Monticello Rd.\, Lenexa\, KS\, 66227\, United States
CATEGORIES:Match Results
END:VEVENT
BEGIN:VEVENT
DTSTART;TZID=UTC:20231115T080000
DTEND;TZID=UTC:20231115T170000
DTSTAMP:20260421T080120
CREATED:20231116T184534Z
LAST-MODIFIED:20231116T184828Z
UID:10000613-1700035200-1700067600@powdercreekcowboys.com
SUMMARY:Work Shirkers
DESCRIPTION:Match Results: \n\nNov 15th 2023 2nd WS 2023 (11_15_23)_ Clean shooters\nNov 15th 2023 2nd WS 2023 (11_15_23)_ Overall Winners Details by Time\nNov 15th 2023 2nd WS 2023 (11_15_23)_ Category Winners Details by Time
URL:https://powdercreekcowboys.com/event/work-shirkers-21-4/
LOCATION:Powder Creek Shooting Park\, 8601 Monticello Rd.\, Lenexa\, KS\, 66227\, United States
CATEGORIES:Match Results,Work Shirkers
END:VEVENT
BEGIN:VEVENT
DTSTART;TZID=UTC:20231111T080000
DTEND;TZID=UTC:20231111T130000
DTSTAMP:20260421T080120
CREATED:20231112T020708Z
LAST-MODIFIED:20231112T020755Z
UID:10000675-1699689600-1699707600@powdercreekcowboys.com
SUMMARY:Second Saturday Monthly Match
DESCRIPTION:Match results: \n\nNov 11th 2nd Sat 2023 (11_11_23)_ Category Winners Details by Time\nNov 11th 2nd Sat 2023 (11_11_23)_ Clean shooters\nNov 11th 2nd Sat 2023 (11_11_23)_ Overall Winners Details by Time
URL:https://powdercreekcowboys.com/event/second-saturday-monthly-match-5/
LOCATION:Powder Creek Shooting Park\, 8601 Monticello Rd.\, Lenexa\, KS\, 66227\, United States
CATEGORIES:2nd Saturday Shoot,Match Results
END:VEVENT
BEGIN:VEVENT
DTSTART;TZID=UTC:20231104T080000
DTEND;TZID=UTC:20231104T170000
DTSTAMP:20260421T080120
CREATED:20231107T151035Z
LAST-MODIFIED:20231107T151036Z
UID:10000392-1699084800-1699117200@powdercreekcowboys.com
SUMMARY:Wild Bunch Monthly Match
DESCRIPTION:Match Results: \nWild Bunch (11_4_23)_ Overall Winners Details by Time
URL:https://powdercreekcowboys.com/event/wild-bunch-match-august-2022-10-01-11/
LOCATION:Powder Creek Shooting Park\, 8601 Monticello Rd.\, Lenexa\, KS\, 66227\, United States
CATEGORIES:Match Results,Wild Bunch
END:VEVENT
BEGIN:VEVENT
DTSTART;TZID=UTC:20231103T080000
DTEND;TZID=UTC:20231103T130000
DTSTAMP:20260421T080120
CREATED:20231107T150812Z
LAST-MODIFIED:20231107T150836Z
UID:10000553-1698998400-1699016400@powdercreekcowboys.com
SUMMARY:Work Shirkers Match
DESCRIPTION:Match Results: \n\n2023 October 1st Work Shirkers (11_3_23)_ Overall Winners Details by Time\n2023 October 1st Work Shirkers (11_3_23)_ Clean shooters\n2023 October 1st Work Shirkers (11_3_23)_ Category Winners Details by Time
URL:https://powdercreekcowboys.com/event/work-shirkers-match-2-4/
LOCATION:Powder Creek Shooting Park\, 8601 Monticello Rd.\, Lenexa\, KS\, 66227\, United States
CATEGORIES:Match Results,Work Shirkers
END:VEVENT
BEGIN:VEVENT
DTSTART;TZID=UTC:20231028T080000
DTEND;TZID=UTC:20231029T170000
DTSTAMP:20260421T080120
CREATED:20230320T143052Z
LAST-MODIFIED:20231030T222318Z
UID:10000507-1698480000-1698598800@powdercreekcowboys.com
SUMMARY:2023 Fire and Ice Kansas Black Powder State Championship and Smokeless Cowboy Action Shooting Match
DESCRIPTION:Match Results:\nBlack Powder \n\n2023 Kansas Black Powder Championship – Main Match (10_28_23 – 10_29_23)_ Clean shooters\n2023 Kansas Black Powder Championship – Main Match (10_28_23 – 10_29_23)_ Overall Winners Details by Time\n2023 Kansas Black Powder Championship – Main Match (10_28_23 – 10_29_23)_ Category Winners Details by Time\n\nSmokeless: \n\n2023 Fire and Ice Championship- Smokeless – Main Match (10_28_23 – 10_29_23)_ Clean shooters\n2023 Fire and Ice Championship- Smokeless – Main Match (10_28_23 – 10_29_23)_ Overall Winners Details by Time\n2023 Fire and Ice Championship- Smokeless – Main Match (10_28_23 – 10_29_23)_ Category Winners Details by Time
URL:https://powdercreekcowboys.com/event/2023-fire-and-ice-kansas-black-powder-state-championship-and-smokeless-cowboy-action-shooting-match/
LOCATION:Powder Creek Shooting Park\, 8601 Monticello Rd.\, Lenexa\, KS\, 66227\, United States
CATEGORIES:Match Results,Special Event,State Match
END:VEVENT
BEGIN:VEVENT
DTSTART;TZID=UTC:20231018T080000
DTEND;TZID=UTC:20231018T170000
DTSTAMP:20260421T080120
CREATED:20231018T214331Z
LAST-MODIFIED:20231018T214531Z
UID:10000612-1697616000-1697648400@powdercreekcowboys.com
SUMMARY:Work Shirkers
DESCRIPTION:Match Results: \n\nOctober 2023 2nd Work Shirkers (10_18_23)_ Overall Winners Details by Time\nOctober 2023 2nd Work Shirkers (10_18_23)_ Clean shooters\nOctober 2023 2nd Work Shirkers (10_18_23)_ Category Winners Details by Time
URL:https://powdercreekcowboys.com/event/work-shirkers-21-3/
LOCATION:Powder Creek Shooting Park\, 8601 Monticello Rd.\, Lenexa\, KS\, 66227\, United States
CATEGORIES:Match Results,Work Shirkers
END:VEVENT
BEGIN:VEVENT
DTSTART;TZID=UTC:20231014T080000
DTEND;TZID=UTC:20231014T130000
DTSTAMP:20260421T080120
CREATED:20231014T235009Z
LAST-MODIFIED:20231014T235043Z
UID:10000674-1697270400-1697288400@powdercreekcowboys.com
SUMMARY:Second Saturday Monthly Match
DESCRIPTION:Match Results: \n\nOctober 2023 2nd Saturday (10_14_23)_ Overall Winners Details by Time\nOctober 2023 2nd Saturday (10_14_23)_ Clean shooters\nOctober 2023 2nd Saturday (10_14_23)_ Category Winners Details by Time
URL:https://powdercreekcowboys.com/event/second-saturday-monthly-match-4/
LOCATION:Powder Creek Shooting Park\, 8601 Monticello Rd.\, Lenexa\, KS\, 66227\, United States
CATEGORIES:2nd Saturday Shoot,Match Results
END:VEVENT
END:VCALENDAR