BEGIN:VCALENDAR
VERSION:2.0
PRODID:-//Powder Creek Cowboys - ECPv6.15.20//NONSGML v1.0//EN
CALSCALE:GREGORIAN
METHOD:PUBLISH
X-WR-CALNAME:Powder Creek Cowboys
X-ORIGINAL-URL:https://powdercreekcowboys.com
X-WR-CALDESC:Events for Powder Creek Cowboys
REFRESH-INTERVAL;VALUE=DURATION:PT1H
X-Robots-Tag:noindex
X-PUBLISHED-TTL:PT1H
BEGIN:VTIMEZONE
TZID:UTC
BEGIN:STANDARD
TZOFFSETFROM:+0000
TZOFFSETTO:+0000
TZNAME:UTC
DTSTART:20220101T000000
END:STANDARD
END:VTIMEZONE
BEGIN:VEVENT
DTSTART;TZID=UTC:20230805T080000
DTEND;TZID=UTC:20230805T170000
DTSTAMP:20260420T144425
CREATED:20230807T190033Z
LAST-MODIFIED:20230807T190035Z
UID:10000389-1691222400-1691254800@powdercreekcowboys.com
SUMMARY:Wild Bunch Monthly Match
DESCRIPTION:Wild Bunch (8_5_23)_ Clean shooters\nWild Bunch (8_5_23)_ Category Winners Details by Time\nWild Bunch (8_5_23)_ Overall Winners Details by Time
URL:https://powdercreekcowboys.com/event/wild-bunch-match-august-2022-10-01-10/
LOCATION:Powder Creek Shooting Park\, 8601 Monticello Rd.\, Lenexa\, KS\, 66227\, United States
CATEGORIES:Match Results,Wild Bunch
END:VEVENT
BEGIN:VEVENT
DTSTART;TZID=UTC:20230802T080000
DTEND;TZID=UTC:20230802T130000
DTSTAMP:20260420T144425
CREATED:20230803T135152Z
LAST-MODIFIED:20230803T135152Z
UID:10000550-1690963200-1690981200@powdercreekcowboys.com
SUMMARY:Work Shirkers Match
DESCRIPTION:Match results: \n\n2023 August 2 1st WS (8_2_23)_ Clean shooters\n2023 August 2 1st WS (8_2_23)_ Category Winners Details by Time\n2023 August 2 1st WS (8_2_23)_ Overall Winners Details by Time
URL:https://powdercreekcowboys.com/event/work-shirkers-match-2-2/
LOCATION:Powder Creek Shooting Park\, 8601 Monticello Rd.\, Lenexa\, KS\, 66227\, United States
CATEGORIES:Match Results,Work Shirkers
END:VEVENT
BEGIN:VEVENT
DTSTART;TZID=UTC:20230726T080000
DTEND;TZID=UTC:20230726T130000
DTSTAMP:20260420T144425
CREATED:20230606T231809Z
LAST-MODIFIED:20230801T130347Z
UID:10000490-1690358400-1690376400@powdercreekcowboys.com
SUMMARY:Third Wednesday Work Shirkers Match
DESCRIPTION:Match Results: \n\nJuly 2023 2nd Work Shirkers (7_26_23)_ Category Winners Details by Time\nJuly 2023 2nd Work Shirkers (7_26_23)_ Clean shooters\nJuly 2023 2nd Work Shirkers (7_26_23)_ Overall Winners Details by Time
URL:https://powdercreekcowboys.com/event/third-wednesday-work-shirkers-match-9/
LOCATION:Powder Creek Shooting Park\, 8601 Monticello Rd.\, Lenexa\, KS\, 66227\, United States
CATEGORIES:Match Results,Work Shirkers
END:VEVENT
BEGIN:VEVENT
DTSTART;TZID=UTC:20230722T080000
DTEND;TZID=UTC:20230722T130000
DTSTAMP:20260420T144425
CREATED:20230723T004330Z
LAST-MODIFIED:20230723T004416Z
UID:10000513-1690012800-1690030800@powdercreekcowboys.com
SUMMARY:Fourth Saturday Shoot
DESCRIPTION:Match Results: \n\nJuly 2023 4th Saturday (7_22_23)_ Overall Winners Details by Time\nJuly 2023 4th Saturday (7_22_23)_ Clean shooters\nJuly 2023 4th Saturday (7_22_23)_ Category Winners Details by Time\n\nMatch Details: \n\nGates Open at 8:00 AM\nMandatory Safety Meeting is at 8:45 AM\nMatch will Start Promptly at 9:00 AM\n\nYou must be present for the safety meeting to compete in this match.  Please use caution in the heat.  We recommend that you bring water to the match as none is available at the range.  Summer Cowboy Dress is in effect for this match.  Please contact Cooncan at cooncan.pcc@gmail.com with any questions. \nNew Shooters please indicate when signing up that this is your first match and what your skill level is so we can get you the appropriate mentor for the match.
URL:https://powdercreekcowboys.com/event/fourth-saturday-shoot-14-8-3/
LOCATION:Powder Creek Shooting Park\, 8601 Monticello Rd.\, Lenexa\, KS\, 66227\, United States
CATEGORIES:4th Saturday Shoot,Match Results
END:VEVENT
BEGIN:VEVENT
DTSTART;TZID=UTC:20230712T083000
DTEND;TZID=UTC:20230712T130000
DTSTAMP:20260420T144425
CREATED:20221106T224326Z
LAST-MODIFIED:20230712T172219Z
UID:10000477-1689150600-1689166800@powdercreekcowboys.com
SUMMARY:First Wednesday Work Shirkers Match
DESCRIPTION:Match results: \n\nJuly 2023 1st Work Shirkers (7_12_23)_ Overall Winners Details by Time\nJuly 2023 1st Work Shirkers (7_12_23)_ Clean shooters\nJuly 2023 1st Work Shirkers (7_12_23)_ Category Winners Details by Time
URL:https://powdercreekcowboys.com/event/first-wednesday-work-shirkers-match/
LOCATION:Powder Creek Shooting Park\, 8601 Monticello Rd.\, Lenexa\, KS\, 66227\, United States
CATEGORIES:Match Results,Work Shirkers
END:VEVENT
BEGIN:VEVENT
DTSTART;TZID=UTC:20230708T083000
DTEND;TZID=UTC:20230708T130000
DTSTAMP:20260420T144425
CREATED:20230709T012248Z
LAST-MODIFIED:20230709T012307Z
UID:10000504-1688805000-1688821200@powdercreekcowboys.com
SUMMARY:Second Saturday Shoot
DESCRIPTION:Match Results: \n\nJuly 2023 1st Saturday (7_8_23)_ Clean shooters\nJuly 2023 1st Saturday (7_8_23)_ Category Winners Details by Time\nJuly 2023 1st Saturday (7_8_23)_ Overall Winners Details by Time\n\nMatch Details: \n\nGates Open at 8:30 AM\nMandatory Safety Meeting is at 9:45 AM\nMatch will Start Promptly at 10:00 AM\n\nYou must be present for the safety meeting to compete in this match.  SASS costume rules are in effect for this match.  Please contact Cooncan at cooncan.pcc@gmail.com with any questions. \nNew Shooters\, please indicate when signing up that this is your first match and what your skill level is so we can get you the appropriate mentor for the match.
URL:https://powdercreekcowboys.com/event/fourth-saturday-shoot-12-2022-11-12-5-4/
LOCATION:Powder Creek Shooting Park\, 8601 Monticello Rd.\, Lenexa\, KS\, 66227\, United States
CATEGORIES:2nd Saturday Shoot,Match Results
END:VEVENT
BEGIN:VEVENT
DTSTART;TZID=UTC:20230701T080000
DTEND;TZID=UTC:20230701T170000
DTSTAMP:20260420T144425
CREATED:20230709T012504Z
LAST-MODIFIED:20230709T012505Z
UID:10000388-1688198400-1688230800@powdercreekcowboys.com
SUMMARY:Wild Bunch Monthly Match
DESCRIPTION:Match Results: \nWild Bunch 7_1_23 (7_1_23)_ Overall Winners Details by Time
URL:https://powdercreekcowboys.com/event/wild-bunch-match-august-2022-10-01-9/
LOCATION:Powder Creek Shooting Park\, 8601 Monticello Rd.\, Lenexa\, KS\, 66227\, United States
CATEGORIES:Match Results,Wild Bunch
END:VEVENT
BEGIN:VEVENT
DTSTART;TZID=UTC:20230629T170000
DTEND;TZID=UTC:20230629T190000
DTSTAMP:20260420T144425
CREATED:20230606T234431Z
LAST-MODIFIED:20230606T234431Z
UID:10000528-1688058000-1688065200@powdercreekcowboys.com
SUMMARY:Practice Night
DESCRIPTION:
URL:https://powdercreekcowboys.com/event/practice-night-2/
LOCATION:KS
CATEGORIES:Practice
END:VEVENT
BEGIN:VEVENT
DTSTART;TZID=UTC:20230628T083000
DTEND;TZID=UTC:20230628T130000
DTSTAMP:20260420T144425
CREATED:20230518T015154Z
LAST-MODIFIED:20230628T202414Z
UID:10000489-1687941000-1687957200@powdercreekcowboys.com
SUMMARY:Third Wednesday Work Shirkers Match
DESCRIPTION:Match Results: \n\nWS June 28 2023 (6_28_23)_ Clean shooters\nWS June 28 2023 (6_28_23)_ Overall Winners Details by Time\nWS June 28 2023 (6_28_23)_ Category Winners Details by Time
URL:https://powdercreekcowboys.com/event/third-wednesday-work-shirkers-match-7/
LOCATION:Powder Creek Shooting Park\, 8601 Monticello Rd.\, Lenexa\, KS\, 66227\, United States
CATEGORIES:Match Results,Work Shirkers
END:VEVENT
BEGIN:VEVENT
DTSTART;TZID=UTC:20230624T080000
DTEND;TZID=UTC:20230624T130000
DTSTAMP:20260420T144425
CREATED:20230624T170548Z
LAST-MODIFIED:20230624T174851Z
UID:10000377-1687593600-1687611600@powdercreekcowboys.com
SUMMARY:Fourth Saturday Shoot
DESCRIPTION:Match Results: \n\nSaturday June 24 2023 (6_24_23)_ Overall Winners Details by Time\nSaturday June 24 2023 (6_24_23)_ Category Winners Details by Time\nSaturday June 24 2023 (6_24_23)_ Clean shooters\n\nMatch Details: \n\nGates Open at 8:00 AM\nMandatory Safety Meeting is at 8:45 AM\nMatch will Start Promptly at 9:00 AM\n\nYou must be present for the safety meeting to compete in this match.  Please use caution in the heat.  We recommend that you bring water to the match as none is available at the range.  Summer Cowboy Dress is in effect for this match.  Please contact Cooncan at cooncan.pcc@gmail.com with any questions. \nNew Shooters please indicate when signing up that this is your first match and what your skill level is so we can get you the appropriate mentor for the match.
URL:https://powdercreekcowboys.com/event/fourth-saturday-shoot-14-8-2/
LOCATION:Powder Creek Shooting Park\, 8601 Monticello Rd.\, Lenexa\, KS\, 66227\, United States
CATEGORIES:4th Saturday Shoot,Match Results
END:VEVENT
BEGIN:VEVENT
DTSTART;TZID=UTC:20230621T080000
DTEND;TZID=UTC:20230621T130000
DTSTAMP:20260420T144425
CREATED:20230320T143743Z
LAST-MODIFIED:20230624T170825Z
UID:10000476-1687334400-1687352400@powdercreekcowboys.com
SUMMARY:First Wednesday Work Shirkers Match
DESCRIPTION:Match Results: \n\nJune 21 WS 2023 (6_21_23)_ Clean shooters\nJune 21 WS 2023 (6_21_23)_ Overall Winners Details by Time\nJune 21 WS 2023 (6_21_23)_ Category Winners Details by Time
URL:https://powdercreekcowboys.com/event/first-wednesday-work-shirkers-match-6/
LOCATION:Powder Creek Shooting Park\, 8601 Monticello Rd.\, Lenexa\, KS\, 66227\, United States
CATEGORIES:Match Results,Work Shirkers
END:VEVENT
BEGIN:VEVENT
DTSTART;TZID=UTC:20230617T080000
DTEND;TZID=UTC:20230617T130000
DTSTAMP:20260420T144425
CREATED:20230320T143824Z
LAST-MODIFIED:20230617T191616Z
UID:10000357-1686988800-1687006800@powdercreekcowboys.com
SUMMARY:Second Saturday Shoot
DESCRIPTION:Match results: \n\nJune 2023 2nd Sat Makeup (6_17_23)_ Clean shooters\nJune 2023 2nd Sat Makeup (6_17_23)_ Category Winners Details by Time\nJune 2023 2nd Sat Makeup (6_17_23)_ Overall Winners Details by Time\n\nMatch Details: \n\nGates Open at 8:00 AM\nMandatory Safety Meeting is at 8:45 AM\nMatch will Start Promptly at 9:00 AM\n\nYou must be present for the safety meeting to compete in this match.  SASS costume rules are in effect for this match.  Please contact Cooncan at cooncan.pcc@gmail.com with any questions. \nNew Shooters\, please indicate when signing up that this is your first match and what your skill level is so we can get you the appropriate mentor for the match.
URL:https://powdercreekcowboys.com/event/second-saturday-shoot-11/
LOCATION:Powder Creek Shooting Park\, 8601 Monticello Rd.\, Lenexa\, KS\, 66227\, United States
CATEGORIES:2nd Saturday Shoot,Match Results
END:VEVENT
BEGIN:VEVENT
DTSTART;TZID=UTC:20230615T170000
DTEND;TZID=UTC:20230615T190000
DTSTAMP:20260420T144425
CREATED:20230606T234316Z
LAST-MODIFIED:20230606T234316Z
UID:10000527-1686848400-1686855600@powdercreekcowboys.com
SUMMARY:Practice Night
DESCRIPTION:
URL:https://powdercreekcowboys.com/event/practice-night/
LOCATION:KS
CATEGORIES:Practice
END:VEVENT
BEGIN:VEVENT
DTSTART;TZID=UTC:20230601T080000
DTEND;TZID=UTC:20230603T183000
DTSTAMP:20260420T144425
CREATED:20230320T141950Z
LAST-MODIFIED:20230604T182641Z
UID:10000505-1685606400-1685817000@powdercreekcowboys.com
SUMMARY:2023 Prince of the Pistoleers and Kansas State Championship - Match Results
DESCRIPTION:Select a link below to view and download a copy of the final scores from POP 2023! \nMatch Results: \n\nScores by Category Wild Bunch 06012023\nClean Match Main Match 06022023\nMatch Final Total Time Main Match 06022023\nScores by Category Main Match 06022023
URL:https://powdercreekcowboys.com/event/2023-prince-of-the-pistoleers-and-kansas-state-championship/
LOCATION:Powder Creek Shooting Park\, 8601 Monticello Rd.\, Lenexa\, KS\, 66227\, United States
CATEGORIES:Match Results,Special Event,State Match
ATTACH;FMTTYPE=image/jpeg:https://powdercreekcowboys.com/wp-content/uploads/2022/10/DSC_6189-1.jpg
END:VEVENT
BEGIN:VEVENT
DTSTART;TZID=UTC:20230527T083000
DTEND;TZID=UTC:20230527T130000
DTSTAMP:20260420T144425
CREATED:20230528T211241Z
LAST-MODIFIED:20230528T212518Z
UID:10000376-1685176200-1685192400@powdercreekcowboys.com
SUMMARY:Fourth Saturday Shoot
DESCRIPTION:Match Results: \n\nMay 2023 2nd Saturday (5_13_23)_ Category Winners Details by Time\nMay 2023 2nd Saturday (5_13_23)_ Clean shooters\nMay 2023 2nd Saturday (5_13_23)_ Overall Winners Details by Time\n\nMatch Details: \n\nGates Open at 8:30 AM\nMandatory Safety Meeting is at 9:45 AM\nMatch will Start Promptly at 10:00 AM\n\nYou must be present for the safety meeting to compete in this match.  Please use caution in the heat.  We recommend that you bring water to the match as none is available at the range.  Summer Cowboy Dress is in effect for this match.  Please contact Cooncan at cooncan.pcc@gmail.com with any questions. \nNew Shooters please indicate when signing up that this is your first match and what your skill level is so we can get you the appropriate mentor for the match.
URL:https://powdercreekcowboys.com/event/fourth-saturday-shoot-14-7/
LOCATION:Powder Creek Shooting Park\, 8601 Monticello Rd.\, Lenexa\, KS\, 66227\, United States
CATEGORIES:4th Saturday Shoot,Match Results
END:VEVENT
BEGIN:VEVENT
DTSTART;TZID=UTC:20230524T170000
DTEND;TZID=UTC:20230524T190000
DTSTAMP:20260420T144425
CREATED:20230523T192802Z
LAST-MODIFIED:20230523T192951Z
UID:10000512-1684947600-1684954800@powdercreekcowboys.com
SUMMARY:May Practice Session
DESCRIPTION:The range will be open for practice on Wednesday evening \n\nPractice begins at 5:00\, please do not arrive prior to that time\nPractice will end promptly at 7pm\nPlease see the range master upon arrival\nPractice Fees are $10\nYou must have a waiver signed to participate in Practice\nIf you are new to the sport\, please contact us before so we can arrange for a mentor to be available to help you\nPlease see the Range Master before beginning practice and wait for range to be declared hot before starting.\nYou must dress in appropriate SASS costume attire to be allowed to practice.  No shorts. Only appropriate short sleeve shirts are permitted and you must be wearing an appropriate hat.\n\nReminder: Only cowboy action firearms and ammunition are allowed on the range at all times.  You are not allowed to use plated\, or jacket rounds of any type and all firearms must conform to SASS regulations.  Please do not bring non-conforming ammunition or firearms with you to the range for practice. NO .22LR ammunition is allowed on the range.  Please do not bring it.
URL:https://powdercreekcowboys.com/event/may-practice-session/
LOCATION:Powder Creek Shooting Park\, 8601 Monticello Rd.\, Lenexa\, KS\, 66227\, United States
CATEGORIES:Practice
END:VEVENT
BEGIN:VEVENT
DTSTART;TZID=UTC:20230517T083000
DTEND;TZID=UTC:20230517T130000
DTSTAMP:20260420T144425
CREATED:20230604T185525Z
LAST-MODIFIED:20230604T185526Z
UID:10000488-1684312200-1684328400@powdercreekcowboys.com
SUMMARY:Third Wednesday Work Shirkers Match
DESCRIPTION:Match Results: \n\nMay 2023 2nd Work Shirkers. (5_17_23)_ Category Winners Details by Time\nMay 2023 2nd Work Shirkers. (5_17_23)_ Clean shooters\nMay 2023 2nd Work Shirkers. (5_17_23)_ Overall Winners Details by Time
URL:https://powdercreekcowboys.com/event/third-wednesday-work-shirkers-match-8/
LOCATION:Powder Creek Shooting Park\, 8601 Monticello Rd.\, Lenexa\, KS\, 66227\, United States
CATEGORIES:Match Results,Work Shirkers
END:VEVENT
BEGIN:VEVENT
DTSTART;TZID=UTC:20230513T083000
DTEND;TZID=UTC:20230513T130000
DTSTAMP:20260420T144425
CREATED:20230514T001101Z
LAST-MODIFIED:20230514T001102Z
UID:10000356-1683966600-1683982800@powdercreekcowboys.com
SUMMARY:Second Saturday Shoot
DESCRIPTION:Match Results: \n\nMay 2023 2nd Saturday (5_13_23)_ Overall Winners Details by Time\nMay 2023 2nd Saturday (5_13_23)_ Clean shooters\nMay 2023 2nd Saturday (5_13_23)_ Category Winners Details by Time\n\nMatch Details: \n\nGates Open at 8:30 AM\nMandatory Safety Meeting is at 9:45 AM\nMatch will Start Promptly at 10:00 AM\n\nYou must be present for the safety meeting to compete in this match.  SASS costume rules are in effect for this match.  Please contact Cooncan at cooncan.pcc@gmail.com with any questions. \nNew Shooters\, please indicate when signing up that this is your first match and what your skill level is so we can get you the appropriate mentor for the match.
URL:https://powdercreekcowboys.com/event/fourth-saturday-shoot-12-2022-11-12-5-3/
LOCATION:Powder Creek Shooting Park\, 8601 Monticello Rd.\, Lenexa\, KS\, 66227\, United States
CATEGORIES:2nd Saturday Shoot,Match Results
END:VEVENT
BEGIN:VEVENT
DTSTART;TZID=UTC:20230506T080000
DTEND;TZID=UTC:20230506T170000
DTSTAMP:20260420T144425
CREATED:20230604T185904Z
LAST-MODIFIED:20230604T190310Z
UID:10000386-1683360000-1683392400@powdercreekcowboys.com
SUMMARY:Wild Bunch Monthly Match
DESCRIPTION:Match results: \nWild Bunch 5_6_23 (5_6_23)_ Overall Winners Details by Time
URL:https://powdercreekcowboys.com/event/wild-bunch-match-august-2022-10-01-8/
LOCATION:Powder Creek Shooting Park\, 8601 Monticello Rd.\, Lenexa\, KS\, 66227\, United States
CATEGORIES:Match Results,Wild Bunch
END:VEVENT
BEGIN:VEVENT
DTSTART;TZID=UTC:20230503T083000
DTEND;TZID=UTC:20230503T130000
DTSTAMP:20260420T144425
CREATED:20230503T230915Z
LAST-MODIFIED:20230503T230915Z
UID:10000475-1683102600-1683118800@powdercreekcowboys.com
SUMMARY:First Wednesday Work Shirkers Match
DESCRIPTION:Match Results: \n\nMay 2023 1st Work Shirkers (5_3_23)_ Overall Winners Details by Time\nMay 2023 1st Work Shirkers (5_3_23)_ Category Winners Details by Time\nMay 2023 1st Work Shirkers (5_3_23)_ Clean shooters
URL:https://powdercreekcowboys.com/event/first-wednesday-work-shirkers-match-8/
LOCATION:Powder Creek Shooting Park\, 8601 Monticello Rd.\, Lenexa\, KS\, 66227\, United States
CATEGORIES:Match Results,Work Shirkers
END:VEVENT
BEGIN:VEVENT
DTSTART;TZID=UTC:20230422T083000
DTEND;TZID=UTC:20230422T130000
DTSTAMP:20260420T144425
CREATED:20230423T144001Z
LAST-MODIFIED:20230423T144002Z
UID:10000375-1682152200-1682168400@powdercreekcowboys.com
SUMMARY:Fourth Saturday Shoot
DESCRIPTION:Match Results: \n\nApril 2023 4th Saturday (4_22_23)_ Category Winners Details by Time\nApril 2023 4th Saturday (4_22_23)_ Overall Winners Details by Time A\nApril 2023 4th Saturday (4_22_23)_ Clean shooters\n\nMatch Details: \n\nGates Open at 8:30 AM\nMandatory Safety Meeting is at 9:45 AM\nMatch will Start Promptly at 10:00 AM\n\nYou must be present for the safety meeting to compete in this match.  Please use caution in the heat.  We recommend that you bring water to the match as none is available at the range.  Summer Cowboy Dress is in effect for this match.  Please contact Cooncan at cooncan.pcc@gmail.com with any questions. \nNew Shooters please indicate when signing up that this is your first match and what your skill level is so we can get you the appropriate mentor for the match.
URL:https://powdercreekcowboys.com/event/fourth-saturday-shoot-14-6/
LOCATION:Powder Creek Shooting Park\, 8601 Monticello Rd.\, Lenexa\, KS\, 66227\, United States
CATEGORIES:4th Saturday Shoot,Match Results
END:VEVENT
BEGIN:VEVENT
DTSTART;TZID=UTC:20230419T083000
DTEND;TZID=UTC:20230419T130000
DTSTAMP:20260420T144425
CREATED:20230423T143658Z
LAST-MODIFIED:20230423T143658Z
UID:10000487-1681893000-1681909200@powdercreekcowboys.com
SUMMARY:Third Wednesday Work Shirkers Match
DESCRIPTION:Match results: \n\nApril 2023 2nd Work Shirkers (4_19_23)_ Category Winners Details by Time\nApril 2023 2nd Work Shirkers (4_19_23)_ Overall Winners Details by Time\nApril 2023 2nd Work Shirkers (4_19_23)_ Clean shooters
URL:https://powdercreekcowboys.com/event/third-wednesday-work-shirkers-match-6/
LOCATION:Powder Creek Shooting Park\, 8601 Monticello Rd.\, Lenexa\, KS\, 66227\, United States
CATEGORIES:Match Results,Work Shirkers
END:VEVENT
BEGIN:VEVENT
DTSTART;TZID=UTC:20230408T083000
DTEND;TZID=UTC:20230408T130000
DTSTAMP:20260420T144425
CREATED:20230410T005300Z
LAST-MODIFIED:20230410T005309Z
UID:10000355-1680942600-1680958800@powdercreekcowboys.com
SUMMARY:Second Saturday Shoot
DESCRIPTION:Match Results: \n\nApril 2023 2nd Saturday (4_8_23)_ Clean shooters\nApril 2023 2nd Saturday (4_8_23)_ Category Winners Details by Time\nApril 2023 2nd Saturday (4_8_23)_ Overall Winners Details by Time\n\n  \n  \nMatch Details: \n\nGates Open at 8:30 AM\nMandatory Safety Meeting is at 9:45 AM\nMatch will Start Promptly at 10:00 AM\n\nYou must be present for the safety meeting to compete in this match.  SASS costume rules are in effect for this match.  Please contact Cooncan at cooncan.pcc@gmail.com with any questions. \nNew Shooters\, please indicate when signing up that this is your first match and what your skill level is so we can get you the appropriate mentor for the match.
URL:https://powdercreekcowboys.com/event/fourth-saturday-shoot-12-2022-11-12-5-2/
LOCATION:Powder Creek Shooting Park\, 8601 Monticello Rd.\, Lenexa\, KS\, 66227\, United States
CATEGORIES:2nd Saturday Shoot,Match Results
END:VEVENT
BEGIN:VEVENT
DTSTART;TZID=UTC:20230405T083000
DTEND;TZID=UTC:20230405T130000
DTSTAMP:20260420T144425
CREATED:20230405T192418Z
LAST-MODIFIED:20230405T192418Z
UID:10000474-1680683400-1680699600@powdercreekcowboys.com
SUMMARY:First Wednesday Work Shirkers Match
DESCRIPTION:Match Results: \n\nApril 2023 1st Work Shirkers (4_5_23)_ Category Winners Details by Time\nApril 2023 1st Work Shirkers (4_5_23)_ Clean shooters\nApril 2023 1st Work Shirkers (4_5_23)_ Overall Winners Details by Time
URL:https://powdercreekcowboys.com/event/first-wednesday-work-shirkers-match-7/
LOCATION:Powder Creek Shooting Park\, 8601 Monticello Rd.\, Lenexa\, KS\, 66227\, United States
CATEGORIES:Match Results,Work Shirkers
END:VEVENT
BEGIN:VEVENT
DTSTART;TZID=UTC:20230401T120000
DTEND;TZID=UTC:20230401T160000
DTSTAMP:20260420T144425
CREATED:20230328T174521Z
LAST-MODIFIED:20230402T020521Z
UID:10000508-1680350400-1680364800@powdercreekcowboys.com
SUMMARY:Make Up Cowboy Action Shooting Match
DESCRIPTION:Match Results: \n\nMarch 1_ 2023 1st Saturday Makeup Match (4_1_23)_ Category Winners by Time\nMarch 1_ 2023 1st Saturday Makeup Match (4_1_23)_ Overall Winners by Time\nMarch 1_ 2023 1st Saturday Makeup Match (4_1_23)_ Clean shooters\n\nGates will be open from 8 Am for the Wild Bunch match preceding this event. \nThere is a mandatory safety meeting at 11:45 AM \nMatch will begin at 12 noon.
URL:https://powdercreekcowboys.com/event/make-up-cowboy-action-shooting-match/
LOCATION:Powder Creek Shooting Park\, 8601 Monticello Rd.\, Lenexa\, KS\, 66227\, United States
CATEGORIES:2nd Saturday Shoot,Match Results
END:VEVENT
BEGIN:VEVENT
DTSTART;TZID=UTC:20230401T080000
DTEND;TZID=UTC:20230401T170000
DTSTAMP:20260420T144425
CREATED:20230402T020652Z
LAST-MODIFIED:20230402T020717Z
UID:10000385-1680336000-1680368400@powdercreekcowboys.com
SUMMARY:Wild Bunch Monthly Match
DESCRIPTION:Match Results: \n\nWild Bunch 4_1_23 (3_28_23)_ Category Winners by Time\nWild Bunch 4_1_23 (3_28_23)_ Overall Winners by Time
URL:https://powdercreekcowboys.com/event/wild-bunch-match-august-2022-10-01-7/
LOCATION:Powder Creek Shooting Park\, 8601 Monticello Rd.\, Lenexa\, KS\, 66227\, United States
CATEGORIES:Match Results,Wild Bunch
END:VEVENT
BEGIN:VEVENT
DTSTART;TZID=UTC:20230325T130000
DTEND;TZID=UTC:20230325T170000
DTSTAMP:20260420T144425
CREATED:20230317T195217Z
LAST-MODIFIED:20230317T195217Z
UID:10000502-1679749200-1679763600@powdercreekcowboys.com
SUMMARY:Timer Operator Training with Sneaky
DESCRIPTION:
URL:https://powdercreekcowboys.com/event/timer-operator-training-with-sneaky-2/
LOCATION:Powder Creek Shooting Park\, 8601 Monticello Rd.\, Lenexa\, KS\, 66227\, United States
CATEGORIES:Meetings,Special Event
END:VEVENT
BEGIN:VEVENT
DTSTART;TZID=UTC:20230325T083000
DTEND;TZID=UTC:20230325T130000
DTSTAMP:20260420T144425
CREATED:20230326T193222Z
LAST-MODIFIED:20230328T173650Z
UID:10000374-1679733000-1679749200@powdercreekcowboys.com
SUMMARY:Fourth Saturday Shoot
DESCRIPTION:Match Results: \n\nMarch 2023 4th Saturday (3_25_23)_ Overall Winners Details by Time\nMarch 2023 4th Saturday (3_25_23)_ Category Winners Details by Time\nMarch 2023 4th Saturday (3_25_23)_ Clean shooters\n\nMatch Details: \n\nGates Open at 8:30 AM\nMandatory Safety Meeting is at 9:45 AM\nMatch will Start Promptly at 10:00 AM\n\nYou must be present for the safety meeting to compete in this match.  Please use caution in the heat.  We recommend that you bring water to the match as none is available at the range.  Summer Cowboy Dress is in effect for this match.  Please contact Cooncan at cooncan.pcc@gmail.com with any questions. \nNew Shooters please indicate when signing up that this is your first match and what your skill level is so we can get you the appropriate mentor for the match.
URL:https://powdercreekcowboys.com/event/fourth-saturday-shoot-14-5/
LOCATION:Powder Creek Shooting Park\, 8601 Monticello Rd.\, Lenexa\, KS\, 66227\, United States
CATEGORIES:4th Saturday Shoot,Match Results
END:VEVENT
BEGIN:VEVENT
DTSTART;TZID=UTC:20230318T083000
DTEND;TZID=UTC:20230318T130000
DTSTAMP:20260420T144425
CREATED:20230213T022208Z
LAST-MODIFIED:20230317T195606Z
UID:10000354-1679128200-1679144400@powdercreekcowboys.com
SUMMARY:Second Saturday Shoot
DESCRIPTION:Match Details: \n\nGates Open at 8:30 AM\nMandatory Safety Meeting is at 9:45 AM\nMatch will Start Promptly at 10:00 AM\n\nYou must be present for the safety meeting to compete in this match.  SASS costume rules are in effect for this match.  Please contact Cooncan at cooncan.pcc@gmail.com with any questions. \nNew Shooters\, please indicate when signing up that this is your first match and what your skill level is so we can get you the appropriate mentor for the match.
URL:https://powdercreekcowboys.com/event/second-saturday-shoot-10/
LOCATION:Powder Creek Shooting Park\, 8601 Monticello Rd.\, Lenexa\, KS\, 66227\, United States
CATEGORIES:2nd Saturday Shoot
END:VEVENT
BEGIN:VEVENT
DTSTART;TZID=UTC:20230315T083000
DTEND;TZID=UTC:20230315T130000
DTSTAMP:20260420T144425
CREATED:20230316T221920Z
LAST-MODIFIED:20230316T221920Z
UID:10000486-1678869000-1678885200@powdercreekcowboys.com
SUMMARY:Third Wednesday Work Shirkers Match
DESCRIPTION:Match Results: \n\nMarch 2023 2nd Work Shirkers (3_15_23)_ Category Winners Details by Time\nMarch 2023 2nd Work Shirkers (3_15_23)_ Overall Winners Details by Time
URL:https://powdercreekcowboys.com/event/third-wednesday-work-shirkers-match-5/
LOCATION:Powder Creek Shooting Park\, 8601 Monticello Rd.\, Lenexa\, KS\, 66227\, United States
CATEGORIES:Match Results,Work Shirkers
END:VEVENT
END:VCALENDAR