BEGIN:VCALENDAR
VERSION:2.0
PRODID:-//Powder Creek Cowboys - ECPv6.15.20//NONSGML v1.0//EN
CALSCALE:GREGORIAN
METHOD:PUBLISH
X-ORIGINAL-URL:https://powdercreekcowboys.com
X-WR-CALDESC:Events for Powder Creek Cowboys
REFRESH-INTERVAL;VALUE=DURATION:PT1H
X-Robots-Tag:noindex
X-PUBLISHED-TTL:PT1H
BEGIN:VTIMEZONE
TZID:UTC
BEGIN:STANDARD
TZOFFSETFROM:+0000
TZOFFSETTO:+0000
TZNAME:UTC
DTSTART:20270101T000000
END:STANDARD
END:VTIMEZONE
BEGIN:VEVENT
DTSTART;TZID=UTC:20280315T120000
DTEND;TZID=UTC:20280315T150000
DTSTAMP:20260420T120604
CREATED:20251123T060214Z
LAST-MODIFIED:20251123T060214Z
UID:10002668-1836734400-1836745200@powdercreekcowboys.com
SUMMARY:Work Shirkers
DESCRIPTION:Match Details: \n\nRegistration Open 12:00 Noon\nSafety Meeting at 12:45 PM\nMatch begins at 1:00 PM
URL:https://powdercreekcowboys.com/event/work-shirkers-21-18-2-2-2/2028-03-15/
LOCATION:Powder Creek Shooting Park\, 8601 Monticello Rd.\, Lenexa\, KS\, 66227\, United States
CATEGORIES:Work Shirkers
END:VEVENT
BEGIN:VEVENT
DTSTART;TZID=UTC:20280325T083000
DTEND;TZID=UTC:20280325T130000
DTSTAMP:20260420T120604
CREATED:20240816T190708Z
LAST-MODIFIED:20260414T144142Z
UID:10002928-1837585800-1837602000@powdercreekcowboys.com
SUMMARY:Fourth Saturday Cowboy
DESCRIPTION:Match Results: \n\nGates Open at 9:00 AM\nSafety Meeting at 9:45 AM\nMatch begins at 10:00 AM
URL:https://powdercreekcowboys.com/event/fourth-saturday-shoot-19/2028-03-25/
LOCATION:Powder Creek Shooting Park\, 8601 Monticello Rd.\, Lenexa\, KS\, 66227\, United States
CATEGORIES:4th Saturday Shoot
END:VEVENT
BEGIN:VEVENT
DTSTART;TZID=UTC:20280405T120000
DTEND;TZID=UTC:20280405T150000
DTSTAMP:20260420T120604
CREATED:20251123T060137Z
LAST-MODIFIED:20251123T060138Z
UID:10002616-1838548800-1838559600@powdercreekcowboys.com
SUMMARY:Work Shirkers Match
DESCRIPTION:Match Details: \n\nRegistration Open 12:00 Noon\nSafety Meeting at 12:45 PM\nMatch begins at 1:00 PM\n\n 
URL:https://powdercreekcowboys.com/event/work-shirkers-match-2-13-4-6-2-2-2/2028-04-05/
LOCATION:Powder Creek Shooting Park\, 8601 Monticello Rd.\, Lenexa\, KS\, 66227\, United States
CATEGORIES:Work Shirkers
END:VEVENT
BEGIN:VEVENT
DTSTART;TZID=UTC:20280408T083000
DTEND;TZID=UTC:20280408T140000
DTSTAMP:20260420T120604
CREATED:20260414T144001Z
LAST-MODIFIED:20260414T144418Z
UID:10002988-1838795400-1838815200@powdercreekcowboys.com
SUMMARY:Second Saturday Cowboy Match
DESCRIPTION:Match Results: \n\nGates Open at 8:30 AM\nSafety Meeting at 9:15 AM\nMatch begins at 9:30 AM
URL:https://powdercreekcowboys.com/event/second-saturday-monthly-match-10-8-9/2028-04-08/
LOCATION:Powder Creek Shooting Park\, 8601 Monticello Rd.\, Lenexa\, KS\, 66227\, United States
CATEGORIES:2nd Saturday Shoot
END:VEVENT
BEGIN:VEVENT
DTSTART;TZID=UTC:20280419T120000
DTEND;TZID=UTC:20280419T150000
DTSTAMP:20260420T120604
CREATED:20251123T060214Z
LAST-MODIFIED:20251123T060214Z
UID:10002669-1839758400-1839769200@powdercreekcowboys.com
SUMMARY:Work Shirkers
DESCRIPTION:Match Details: \n\nRegistration Open 12:00 Noon\nSafety Meeting at 12:45 PM\nMatch begins at 1:00 PM
URL:https://powdercreekcowboys.com/event/work-shirkers-21-18-2-2-2/2028-04-19/
LOCATION:Powder Creek Shooting Park\, 8601 Monticello Rd.\, Lenexa\, KS\, 66227\, United States
CATEGORIES:Work Shirkers
END:VEVENT
BEGIN:VEVENT
DTSTART;TZID=UTC:20280422T083000
DTEND;TZID=UTC:20280422T130000
DTSTAMP:20260420T120604
CREATED:20240816T190708Z
LAST-MODIFIED:20260414T144142Z
UID:10002929-1840005000-1840021200@powdercreekcowboys.com
SUMMARY:Fourth Saturday Cowboy
DESCRIPTION:Match Results: \n\nGates Open at 9:00 AM\nSafety Meeting at 9:45 AM\nMatch begins at 10:00 AM
URL:https://powdercreekcowboys.com/event/fourth-saturday-shoot-19/2028-04-22/
LOCATION:Powder Creek Shooting Park\, 8601 Monticello Rd.\, Lenexa\, KS\, 66227\, United States
CATEGORIES:4th Saturday Shoot
END:VEVENT
BEGIN:VEVENT
DTSTART;TZID=UTC:20280503T120000
DTEND;TZID=UTC:20280503T150000
DTSTAMP:20260420T120604
CREATED:20251123T060137Z
LAST-MODIFIED:20251123T060138Z
UID:10002617-1840968000-1840978800@powdercreekcowboys.com
SUMMARY:Work Shirkers Match
DESCRIPTION:Match Details: \n\nRegistration Open 12:00 Noon\nSafety Meeting at 12:45 PM\nMatch begins at 1:00 PM\n\n 
URL:https://powdercreekcowboys.com/event/work-shirkers-match-2-13-4-6-2-2-2/2028-05-03/
LOCATION:Powder Creek Shooting Park\, 8601 Monticello Rd.\, Lenexa\, KS\, 66227\, United States
CATEGORIES:Work Shirkers
END:VEVENT
BEGIN:VEVENT
DTSTART;TZID=UTC:20280513T083000
DTEND;TZID=UTC:20280513T140000
DTSTAMP:20260420T120604
CREATED:20260414T144001Z
LAST-MODIFIED:20260414T144418Z
UID:10002989-1841819400-1841839200@powdercreekcowboys.com
SUMMARY:Second Saturday Cowboy Match
DESCRIPTION:Match Results: \n\nGates Open at 8:30 AM\nSafety Meeting at 9:15 AM\nMatch begins at 9:30 AM
URL:https://powdercreekcowboys.com/event/second-saturday-monthly-match-10-8-9/2028-05-13/
LOCATION:Powder Creek Shooting Park\, 8601 Monticello Rd.\, Lenexa\, KS\, 66227\, United States
CATEGORIES:2nd Saturday Shoot
END:VEVENT
BEGIN:VEVENT
DTSTART;TZID=UTC:20280517T120000
DTEND;TZID=UTC:20280517T150000
DTSTAMP:20260420T120604
CREATED:20251123T060214Z
LAST-MODIFIED:20251123T060214Z
UID:10002670-1842177600-1842188400@powdercreekcowboys.com
SUMMARY:Work Shirkers
DESCRIPTION:Match Details: \n\nRegistration Open 12:00 Noon\nSafety Meeting at 12:45 PM\nMatch begins at 1:00 PM
URL:https://powdercreekcowboys.com/event/work-shirkers-21-18-2-2-2/2028-05-17/
LOCATION:Powder Creek Shooting Park\, 8601 Monticello Rd.\, Lenexa\, KS\, 66227\, United States
CATEGORIES:Work Shirkers
END:VEVENT
BEGIN:VEVENT
DTSTART;TZID=UTC:20280527T083000
DTEND;TZID=UTC:20280527T130000
DTSTAMP:20260420T120604
CREATED:20240816T190708Z
LAST-MODIFIED:20260414T144142Z
UID:10002930-1843029000-1843045200@powdercreekcowboys.com
SUMMARY:Fourth Saturday Cowboy
DESCRIPTION:Match Results: \n\nGates Open at 9:00 AM\nSafety Meeting at 9:45 AM\nMatch begins at 10:00 AM
URL:https://powdercreekcowboys.com/event/fourth-saturday-shoot-19/2028-05-27/
LOCATION:Powder Creek Shooting Park\, 8601 Monticello Rd.\, Lenexa\, KS\, 66227\, United States
CATEGORIES:4th Saturday Shoot
END:VEVENT
BEGIN:VEVENT
DTSTART;TZID=UTC:20280607T120000
DTEND;TZID=UTC:20280607T150000
DTSTAMP:20260420T120604
CREATED:20251123T060137Z
LAST-MODIFIED:20251123T060138Z
UID:10002618-1843992000-1844002800@powdercreekcowboys.com
SUMMARY:Work Shirkers Match
DESCRIPTION:Match Details: \n\nRegistration Open 12:00 Noon\nSafety Meeting at 12:45 PM\nMatch begins at 1:00 PM\n\n 
URL:https://powdercreekcowboys.com/event/work-shirkers-match-2-13-4-6-2-2-2/2028-06-07/
LOCATION:Powder Creek Shooting Park\, 8601 Monticello Rd.\, Lenexa\, KS\, 66227\, United States
CATEGORIES:Work Shirkers
END:VEVENT
BEGIN:VEVENT
DTSTART;TZID=UTC:20280610T083000
DTEND;TZID=UTC:20280610T140000
DTSTAMP:20260420T120604
CREATED:20260414T144001Z
LAST-MODIFIED:20260414T144418Z
UID:10002990-1844238600-1844258400@powdercreekcowboys.com
SUMMARY:Second Saturday Cowboy Match
DESCRIPTION:Match Results: \n\nGates Open at 8:30 AM\nSafety Meeting at 9:15 AM\nMatch begins at 9:30 AM
URL:https://powdercreekcowboys.com/event/second-saturday-monthly-match-10-8-9/2028-06-10/
LOCATION:Powder Creek Shooting Park\, 8601 Monticello Rd.\, Lenexa\, KS\, 66227\, United States
CATEGORIES:2nd Saturday Shoot
END:VEVENT
BEGIN:VEVENT
DTSTART;TZID=UTC:20280621T120000
DTEND;TZID=UTC:20280621T150000
DTSTAMP:20260420T120604
CREATED:20251123T060214Z
LAST-MODIFIED:20251123T060214Z
UID:10002671-1845201600-1845212400@powdercreekcowboys.com
SUMMARY:Work Shirkers
DESCRIPTION:Match Details: \n\nRegistration Open 12:00 Noon\nSafety Meeting at 12:45 PM\nMatch begins at 1:00 PM
URL:https://powdercreekcowboys.com/event/work-shirkers-21-18-2-2-2/2028-06-21/
LOCATION:Powder Creek Shooting Park\, 8601 Monticello Rd.\, Lenexa\, KS\, 66227\, United States
CATEGORIES:Work Shirkers
END:VEVENT
BEGIN:VEVENT
DTSTART;TZID=UTC:20280624T083000
DTEND;TZID=UTC:20280624T130000
DTSTAMP:20260420T120604
CREATED:20240816T190708Z
LAST-MODIFIED:20260414T144142Z
UID:10002931-1845448200-1845464400@powdercreekcowboys.com
SUMMARY:Fourth Saturday Cowboy
DESCRIPTION:Match Results: \n\nGates Open at 9:00 AM\nSafety Meeting at 9:45 AM\nMatch begins at 10:00 AM
URL:https://powdercreekcowboys.com/event/fourth-saturday-shoot-19/2028-06-24/
LOCATION:Powder Creek Shooting Park\, 8601 Monticello Rd.\, Lenexa\, KS\, 66227\, United States
CATEGORIES:4th Saturday Shoot
END:VEVENT
BEGIN:VEVENT
DTSTART;TZID=UTC:20280705T120000
DTEND;TZID=UTC:20280705T150000
DTSTAMP:20260420T120604
CREATED:20251123T060137Z
LAST-MODIFIED:20251123T060138Z
UID:10002619-1846411200-1846422000@powdercreekcowboys.com
SUMMARY:Work Shirkers Match
DESCRIPTION:Match Details: \n\nRegistration Open 12:00 Noon\nSafety Meeting at 12:45 PM\nMatch begins at 1:00 PM\n\n 
URL:https://powdercreekcowboys.com/event/work-shirkers-match-2-13-4-6-2-2-2/2028-07-05/
LOCATION:Powder Creek Shooting Park\, 8601 Monticello Rd.\, Lenexa\, KS\, 66227\, United States
CATEGORIES:Work Shirkers
END:VEVENT
BEGIN:VEVENT
DTSTART;TZID=UTC:20280708T083000
DTEND;TZID=UTC:20280708T140000
DTSTAMP:20260420T120604
CREATED:20260414T144001Z
LAST-MODIFIED:20260414T144418Z
UID:10002991-1846657800-1846677600@powdercreekcowboys.com
SUMMARY:Second Saturday Cowboy Match
DESCRIPTION:Match Results: \n\nGates Open at 8:30 AM\nSafety Meeting at 9:15 AM\nMatch begins at 9:30 AM
URL:https://powdercreekcowboys.com/event/second-saturday-monthly-match-10-8-9/2028-07-08/
LOCATION:Powder Creek Shooting Park\, 8601 Monticello Rd.\, Lenexa\, KS\, 66227\, United States
CATEGORIES:2nd Saturday Shoot
END:VEVENT
BEGIN:VEVENT
DTSTART;TZID=UTC:20280719T120000
DTEND;TZID=UTC:20280719T150000
DTSTAMP:20260420T120604
CREATED:20251123T060214Z
LAST-MODIFIED:20251123T060214Z
UID:10002672-1847620800-1847631600@powdercreekcowboys.com
SUMMARY:Work Shirkers
DESCRIPTION:Match Details: \n\nRegistration Open 12:00 Noon\nSafety Meeting at 12:45 PM\nMatch begins at 1:00 PM
URL:https://powdercreekcowboys.com/event/work-shirkers-21-18-2-2-2/2028-07-19/
LOCATION:Powder Creek Shooting Park\, 8601 Monticello Rd.\, Lenexa\, KS\, 66227\, United States
CATEGORIES:Work Shirkers
END:VEVENT
BEGIN:VEVENT
DTSTART;TZID=UTC:20280722T083000
DTEND;TZID=UTC:20280722T130000
DTSTAMP:20260420T120604
CREATED:20240816T190708Z
LAST-MODIFIED:20260414T144142Z
UID:10002932-1847867400-1847883600@powdercreekcowboys.com
SUMMARY:Fourth Saturday Cowboy
DESCRIPTION:Match Results: \n\nGates Open at 9:00 AM\nSafety Meeting at 9:45 AM\nMatch begins at 10:00 AM
URL:https://powdercreekcowboys.com/event/fourth-saturday-shoot-19/2028-07-22/
LOCATION:Powder Creek Shooting Park\, 8601 Monticello Rd.\, Lenexa\, KS\, 66227\, United States
CATEGORIES:4th Saturday Shoot
END:VEVENT
BEGIN:VEVENT
DTSTART;TZID=UTC:20280802T120000
DTEND;TZID=UTC:20280802T150000
DTSTAMP:20260420T120604
CREATED:20251123T060137Z
LAST-MODIFIED:20251123T060138Z
UID:10002620-1848830400-1848841200@powdercreekcowboys.com
SUMMARY:Work Shirkers Match
DESCRIPTION:Match Details: \n\nRegistration Open 12:00 Noon\nSafety Meeting at 12:45 PM\nMatch begins at 1:00 PM\n\n 
URL:https://powdercreekcowboys.com/event/work-shirkers-match-2-13-4-6-2-2-2/2028-08-02/
LOCATION:Powder Creek Shooting Park\, 8601 Monticello Rd.\, Lenexa\, KS\, 66227\, United States
CATEGORIES:Work Shirkers
END:VEVENT
BEGIN:VEVENT
DTSTART;TZID=UTC:20280812T083000
DTEND;TZID=UTC:20280812T140000
DTSTAMP:20260420T120604
CREATED:20260414T144001Z
LAST-MODIFIED:20260414T144418Z
UID:10002992-1849681800-1849701600@powdercreekcowboys.com
SUMMARY:Second Saturday Cowboy Match
DESCRIPTION:Match Results: \n\nGates Open at 8:30 AM\nSafety Meeting at 9:15 AM\nMatch begins at 9:30 AM
URL:https://powdercreekcowboys.com/event/second-saturday-monthly-match-10-8-9/2028-08-12/
LOCATION:Powder Creek Shooting Park\, 8601 Monticello Rd.\, Lenexa\, KS\, 66227\, United States
CATEGORIES:2nd Saturday Shoot
END:VEVENT
BEGIN:VEVENT
DTSTART;TZID=UTC:20280816T120000
DTEND;TZID=UTC:20280816T150000
DTSTAMP:20260420T120604
CREATED:20251123T060214Z
LAST-MODIFIED:20251123T060214Z
UID:10002673-1850040000-1850050800@powdercreekcowboys.com
SUMMARY:Work Shirkers
DESCRIPTION:Match Details: \n\nRegistration Open 12:00 Noon\nSafety Meeting at 12:45 PM\nMatch begins at 1:00 PM
URL:https://powdercreekcowboys.com/event/work-shirkers-21-18-2-2-2/2028-08-16/
LOCATION:Powder Creek Shooting Park\, 8601 Monticello Rd.\, Lenexa\, KS\, 66227\, United States
CATEGORIES:Work Shirkers
END:VEVENT
BEGIN:VEVENT
DTSTART;TZID=UTC:20280826T083000
DTEND;TZID=UTC:20280826T130000
DTSTAMP:20260420T120604
CREATED:20240816T190708Z
LAST-MODIFIED:20260414T144142Z
UID:10002933-1850891400-1850907600@powdercreekcowboys.com
SUMMARY:Fourth Saturday Cowboy
DESCRIPTION:Match Results: \n\nGates Open at 9:00 AM\nSafety Meeting at 9:45 AM\nMatch begins at 10:00 AM
URL:https://powdercreekcowboys.com/event/fourth-saturday-shoot-19/2028-08-26/
LOCATION:Powder Creek Shooting Park\, 8601 Monticello Rd.\, Lenexa\, KS\, 66227\, United States
CATEGORIES:4th Saturday Shoot
END:VEVENT
BEGIN:VEVENT
DTSTART;TZID=UTC:20280906T120000
DTEND;TZID=UTC:20280906T150000
DTSTAMP:20260420T120604
CREATED:20251123T060137Z
LAST-MODIFIED:20251123T060138Z
UID:10002621-1851854400-1851865200@powdercreekcowboys.com
SUMMARY:Work Shirkers Match
DESCRIPTION:Match Details: \n\nRegistration Open 12:00 Noon\nSafety Meeting at 12:45 PM\nMatch begins at 1:00 PM\n\n 
URL:https://powdercreekcowboys.com/event/work-shirkers-match-2-13-4-6-2-2-2/2028-09-06/
LOCATION:Powder Creek Shooting Park\, 8601 Monticello Rd.\, Lenexa\, KS\, 66227\, United States
CATEGORIES:Work Shirkers
END:VEVENT
BEGIN:VEVENT
DTSTART;TZID=UTC:20280909T083000
DTEND;TZID=UTC:20280909T140000
DTSTAMP:20260420T120604
CREATED:20260414T144001Z
LAST-MODIFIED:20260414T144418Z
UID:10002993-1852101000-1852120800@powdercreekcowboys.com
SUMMARY:Second Saturday Cowboy Match
DESCRIPTION:Match Results: \n\nGates Open at 8:30 AM\nSafety Meeting at 9:15 AM\nMatch begins at 9:30 AM
URL:https://powdercreekcowboys.com/event/second-saturday-monthly-match-10-8-9/2028-09-09/
LOCATION:Powder Creek Shooting Park\, 8601 Monticello Rd.\, Lenexa\, KS\, 66227\, United States
CATEGORIES:2nd Saturday Shoot
END:VEVENT
BEGIN:VEVENT
DTSTART;TZID=UTC:20280920T120000
DTEND;TZID=UTC:20280920T150000
DTSTAMP:20260420T120604
CREATED:20251123T060214Z
LAST-MODIFIED:20251123T060214Z
UID:10002674-1853064000-1853074800@powdercreekcowboys.com
SUMMARY:Work Shirkers
DESCRIPTION:Match Details: \n\nRegistration Open 12:00 Noon\nSafety Meeting at 12:45 PM\nMatch begins at 1:00 PM
URL:https://powdercreekcowboys.com/event/work-shirkers-21-18-2-2-2/2028-09-20/
LOCATION:Powder Creek Shooting Park\, 8601 Monticello Rd.\, Lenexa\, KS\, 66227\, United States
CATEGORIES:Work Shirkers
END:VEVENT
BEGIN:VEVENT
DTSTART;TZID=UTC:20280923T083000
DTEND;TZID=UTC:20280923T130000
DTSTAMP:20260420T120604
CREATED:20240816T190708Z
LAST-MODIFIED:20260414T144142Z
UID:10002934-1853310600-1853326800@powdercreekcowboys.com
SUMMARY:Fourth Saturday Cowboy
DESCRIPTION:Match Results: \n\nGates Open at 9:00 AM\nSafety Meeting at 9:45 AM\nMatch begins at 10:00 AM
URL:https://powdercreekcowboys.com/event/fourth-saturday-shoot-19/2028-09-23/
LOCATION:Powder Creek Shooting Park\, 8601 Monticello Rd.\, Lenexa\, KS\, 66227\, United States
CATEGORIES:4th Saturday Shoot
END:VEVENT
BEGIN:VEVENT
DTSTART;TZID=UTC:20281004T120000
DTEND;TZID=UTC:20281004T150000
DTSTAMP:20260420T120604
CREATED:20251123T060137Z
LAST-MODIFIED:20251123T060138Z
UID:10002622-1854273600-1854284400@powdercreekcowboys.com
SUMMARY:Work Shirkers Match
DESCRIPTION:Match Details: \n\nRegistration Open 12:00 Noon\nSafety Meeting at 12:45 PM\nMatch begins at 1:00 PM\n\n 
URL:https://powdercreekcowboys.com/event/work-shirkers-match-2-13-4-6-2-2-2/2028-10-04/
LOCATION:Powder Creek Shooting Park\, 8601 Monticello Rd.\, Lenexa\, KS\, 66227\, United States
CATEGORIES:Work Shirkers
END:VEVENT
BEGIN:VEVENT
DTSTART;TZID=UTC:20281014T083000
DTEND;TZID=UTC:20281014T140000
DTSTAMP:20260420T120604
CREATED:20260414T144001Z
LAST-MODIFIED:20260414T144418Z
UID:10002994-1855125000-1855144800@powdercreekcowboys.com
SUMMARY:Second Saturday Cowboy Match
DESCRIPTION:Match Results: \n\nGates Open at 8:30 AM\nSafety Meeting at 9:15 AM\nMatch begins at 9:30 AM
URL:https://powdercreekcowboys.com/event/second-saturday-monthly-match-10-8-9/2028-10-14/
LOCATION:Powder Creek Shooting Park\, 8601 Monticello Rd.\, Lenexa\, KS\, 66227\, United States
CATEGORIES:2nd Saturday Shoot
END:VEVENT
BEGIN:VEVENT
DTSTART;TZID=UTC:20281018T120000
DTEND;TZID=UTC:20281018T150000
DTSTAMP:20260420T120604
CREATED:20251123T060214Z
LAST-MODIFIED:20251123T060214Z
UID:10002675-1855483200-1855494000@powdercreekcowboys.com
SUMMARY:Work Shirkers
DESCRIPTION:Match Details: \n\nRegistration Open 12:00 Noon\nSafety Meeting at 12:45 PM\nMatch begins at 1:00 PM
URL:https://powdercreekcowboys.com/event/work-shirkers-21-18-2-2-2/2028-10-18/
LOCATION:Powder Creek Shooting Park\, 8601 Monticello Rd.\, Lenexa\, KS\, 66227\, United States
CATEGORIES:Work Shirkers
END:VEVENT
BEGIN:VEVENT
DTSTART;TZID=UTC:20281028T083000
DTEND;TZID=UTC:20281028T130000
DTSTAMP:20260420T120604
CREATED:20240816T190708Z
LAST-MODIFIED:20260414T144142Z
UID:10002935-1856334600-1856350800@powdercreekcowboys.com
SUMMARY:Fourth Saturday Cowboy
DESCRIPTION:Match Results: \n\nGates Open at 9:00 AM\nSafety Meeting at 9:45 AM\nMatch begins at 10:00 AM
URL:https://powdercreekcowboys.com/event/fourth-saturday-shoot-19/2028-10-28/
LOCATION:Powder Creek Shooting Park\, 8601 Monticello Rd.\, Lenexa\, KS\, 66227\, United States
CATEGORIES:4th Saturday Shoot
END:VEVENT
END:VCALENDAR