BEGIN:VCALENDAR
VERSION:2.0
PRODID:-//Powder Creek Cowboys - ECPv6.15.20//NONSGML v1.0//EN
CALSCALE:GREGORIAN
METHOD:PUBLISH
X-WR-CALNAME:Powder Creek Cowboys
X-ORIGINAL-URL:https://powdercreekcowboys.com
X-WR-CALDESC:Events for Powder Creek Cowboys
REFRESH-INTERVAL;VALUE=DURATION:PT1H
X-Robots-Tag:noindex
X-PUBLISHED-TTL:PT1H
BEGIN:VTIMEZONE
TZID:UTC
BEGIN:STANDARD
TZOFFSETFROM:+0000
TZOFFSETTO:+0000
TZNAME:UTC
DTSTART:20220101T000000
END:STANDARD
END:VTIMEZONE
BEGIN:VEVENT
DTSTART;TZID=UTC:20230902T080000
DTEND;TZID=UTC:20230902T170000
DTSTAMP:20260420T132656
CREATED:20230320T143925Z
LAST-MODIFIED:20230320T143952Z
UID:10000390-1693641600-1693674000@powdercreekcowboys.com
SUMMARY:Cancelled - Wild Bunch Monthly Match
DESCRIPTION:
URL:https://powdercreekcowboys.com/event/wild-bunch-monthly-match/
LOCATION:Powder Creek Shooting Park\, 8601 Monticello Rd.\, Lenexa\, KS\, 66227\, United States
CATEGORIES:Cancellation,Wild Bunch
END:VEVENT
BEGIN:VEVENT
DTSTART;TZID=UTC:20230902T080000
DTEND;TZID=UTC:20230903T170000
DTSTAMP:20260420T132656
CREATED:20230320T142133Z
LAST-MODIFIED:20230906T013150Z
UID:10000506-1693641600-1693760400@powdercreekcowboys.com
SUMMARY:2023 Mayhem at Monticello Kansas State Wild Bunch Championship
DESCRIPTION:Match Results: \n\n2023 Wild Bunch State Championship (9_2_23 – 9_3_23)_ Category Winners by Time\n2023 Wild Bunch State Championship (9_2_23 – 9_3_23)_ Category Winners by Time\n2023 Wild Bunch State Championship (9_2_23 – 9_3_23)_ Category Winners Details by Time\n\n\nCongratulate your Kansas State Wild Bunch Champions
URL:https://powdercreekcowboys.com/event/mayhem-at-monticello-kansas-state-wild-bunch-championship/
LOCATION:Powder Creek Shooting Park\, 8601 Monticello Rd.\, Lenexa\, KS\, 66227\, United States
CATEGORIES:Match Results,Special Event,State Match
ATTACH;FMTTYPE=image/jpeg:https://powdercreekcowboys.com/wp-content/uploads/2023/09/2023-KS-State-WB-match-cropped-scaled.jpg
END:VEVENT
BEGIN:VEVENT
DTSTART;TZID=UTC:20230909T080000
DTEND;TZID=UTC:20230909T130000
DTSTAMP:20260420T132656
CREATED:20230910T231221Z
LAST-MODIFIED:20230910T231256Z
UID:10000673-1694246400-1694264400@powdercreekcowboys.com
SUMMARY:Second Saturday Monthly Match
DESCRIPTION:Match Results: \n\n2023 September 2nd Saturday (9_9_23)_ Category Winners Details by Time\n2023 September 2nd Saturday (9_9_23)_ Clean shooters\n2023 September 2nd Saturday (9_9_23)_ Overall Winners Details by Time
URL:https://powdercreekcowboys.com/event/second-saturday-monthly-match-2/
LOCATION:Powder Creek Shooting Park\, 8601 Monticello Rd.\, Lenexa\, KS\, 66227\, United States
CATEGORIES:2nd Saturday Shoot,Match Results
END:VEVENT
BEGIN:VEVENT
DTSTART;TZID=UTC:20230913T080000
DTEND;TZID=UTC:20230913T130000
DTSTAMP:20260420T132656
CREATED:20230829T202442Z
LAST-MODIFIED:20230919T022351Z
UID:10000551-1694592000-1694610000@powdercreekcowboys.com
SUMMARY:Work Shirkers Match
DESCRIPTION:Match Results: \n\n2023 September 1st Work Shirkers (9_13_23)_ Overall Winners Details by Time\n2023 September 1st Work Shirkers (9_13_23)_ Category Winners Details by Time\n2023 September 1st Work Shirkers (9_13_23)_ Clean shooters
URL:https://powdercreekcowboys.com/event/work-shirkers-match-3/
LOCATION:Powder Creek Shooting Park\, 8601 Monticello Rd.\, Lenexa\, KS\, 66227\, United States
CATEGORIES:Match Results,Work Shirkers
END:VEVENT
BEGIN:VEVENT
DTSTART;TZID=UTC:20230923T080000
DTEND;TZID=UTC:20230923T130000
DTSTAMP:20260420T132656
CREATED:20230925T020517Z
LAST-MODIFIED:20230925T020518Z
UID:10000515-1695456000-1695474000@powdercreekcowboys.com
SUMMARY:Fourth Saturday Shoot
DESCRIPTION:Match results: \n\n2023 September 4th Saturday (9_23_23)_ Category Winners Details by Time\n2023 September 4th Saturday (9_23_23)_ Clean shooters\n2023 September 4th Saturday (9_23_23)_ Overall Winners Details by Time\n\nMatch Details: \n\nGates Open at 8:00 AM\nMandatory Safety Meeting is at 8:45 AM\nMatch will Start Promptly at 9:00 AM\n\nYou must be present for the safety meeting to compete in this match.  Please use caution in the heat.  We recommend that you bring water to the match as none is available at the range.  Summer Cowboy Dress is in effect for this match.  Please contact Cooncan at cooncan.pcc@gmail.com with any questions. \nNew Shooters please indicate when signing up that this is your first match and what your skill level is so we can get you the appropriate mentor for the match.
URL:https://powdercreekcowboys.com/event/fourth-saturday-shoot-14-8-5/
LOCATION:Powder Creek Shooting Park\, 8601 Monticello Rd.\, Lenexa\, KS\, 66227\, United States
CATEGORIES:4th Saturday Shoot,Match Results
END:VEVENT
BEGIN:VEVENT
DTSTART;TZID=UTC:20230927T080000
DTEND;TZID=UTC:20230927T170000
DTSTAMP:20260420T132656
CREATED:20230829T202626Z
LAST-MODIFIED:20230929T134931Z
UID:10000611-1695801600-1695834000@powdercreekcowboys.com
SUMMARY:Work Shirkers
DESCRIPTION:2023 September 2nd Work Shirkers (9_27_23)_ Overall Winners Details by Time\n2023 September 2nd Work Shirkers (9_27_23)_ Clean shooters\n2023 September 2nd Work Shirkers (9_27_23)_ Category Winners Details by Time
URL:https://powdercreekcowboys.com/event/work-shirkers-23/
LOCATION:Powder Creek Shooting Park\, 8601 Monticello Rd.\, Lenexa\, KS\, 66227\, United States
CATEGORIES:Match Results,Work Shirkers
END:VEVENT
END:VCALENDAR