BEGIN:VCALENDAR
VERSION:2.0
PRODID:-//Powder Creek Cowboys - ECPv6.15.20//NONSGML v1.0//EN
CALSCALE:GREGORIAN
METHOD:PUBLISH
X-WR-CALNAME:Powder Creek Cowboys
X-ORIGINAL-URL:https://powdercreekcowboys.com
X-WR-CALDESC:Events for Powder Creek Cowboys
REFRESH-INTERVAL;VALUE=DURATION:PT1H
X-Robots-Tag:noindex
X-PUBLISHED-TTL:PT1H
BEGIN:VTIMEZONE
TZID:UTC
BEGIN:STANDARD
TZOFFSETFROM:+0000
TZOFFSETTO:+0000
TZNAME:UTC
DTSTART:20230101T000000
END:STANDARD
END:VTIMEZONE
BEGIN:VEVENT
DTSTART;TZID=UTC:20240831T080000
DTEND;TZID=UTC:20240901T130000
DTSTAMP:20260421T121940
CREATED:20240730T143922Z
LAST-MODIFIED:20240902T225506Z
UID:10000876-1725091200-1725195600@powdercreekcowboys.com
SUMMARY:Mayhem at Monticello - Kansas State Wild Bunch Championship
DESCRIPTION:Congratulations to our Wild Bunch State Champions: \nWomen’s Results: \n\n1st place Ladies Modern – Mean Mary\nNo KS State Champion\n\nMen’s Modern \n\n1st place Men’s Modern – Don Jorge\n2nd place Men’s Modern – Doc Hurd\n3rd place Men’s Modern and Kansas State Champion – Sasparilla Groz\n\nMen’s Traditional \n\n1st place Men’s Traditional – Tucker McNeely\n2nd place Men’s Traditional and Kansas State Champion – High Plains Hud\n3rd place Men’s Traditional – Fort Hays Preacher\n\nMatch Results: \n\nKansas State Wild Bunch 2024 (8_31_24 – 9_1_24)_ Overall Winners Details by Time\nKansas State Wild Bunch 2024 (8_31_24 – 9_1_24)_ Category Winners Details by Time
URL:https://powdercreekcowboys.com/event/mayhem-at-monticello-kansas-state-wild-bunch-championship-2/
LOCATION:Powder Creek Shooting Park\, 8601 Monticello Rd.\, Lenexa\, KS\, 66227\, United States
CATEGORIES:Special Event,State Match,Wild Bunch
ATTACH;FMTTYPE=image/jpeg:https://powdercreekcowboys.com/wp-content/uploads/2024/07/The-Wild-Bunch-Vintage-Movie-Poster-Original-Half-Sheet-crop-scaled.jpg
END:VEVENT
BEGIN:VEVENT
DTSTART;TZID=UTC:20240904T080000
DTEND;TZID=UTC:20240904T130000
DTSTAMP:20260421T121940
CREATED:20240904T171554Z
LAST-MODIFIED:20240904T171555Z
UID:10000563-1725436800-1725454800@powdercreekcowboys.com
SUMMARY:Work Shirkers Match
DESCRIPTION:Match Results: \n\n2024 Work Shirkers 09_04_24 (9_4_24)_ Clean shooters\n2024 Work Shirkers 09_04_24 (9_4_24)_ Category Winners Details by Time\n2024 Work Shirkers 09_04_24 (9_4_24)_ Overall Winners Details by Time\n\nMatch Details: \n\nGates Open at 8:00\nSafety Meeting at 8:45\nMatch begins at 9:00
URL:https://powdercreekcowboys.com/event/work-shirkers-match-2-11/
LOCATION:Powder Creek Shooting Park\, 8601 Monticello Rd.\, Lenexa\, KS\, 66227\, United States
CATEGORIES:Work Shirkers
END:VEVENT
BEGIN:VEVENT
DTSTART;TZID=UTC:20240907T080000
DTEND;TZID=UTC:20240907T170000
DTSTAMP:20260421T121940
CREATED:20240902T225912Z
LAST-MODIFIED:20240907T203215Z
UID:10000754-1725696000-1725728400@powdercreekcowboys.com
SUMMARY:POP-UP Cowboy Match
DESCRIPTION:Match Results: \n\n2024 Makeup 9_7_24 (9_7_24)_ Overall Winners Details by Time\n2024 Makeup 9_7_24 (9_7_24)_ Category Winners Details by Time\n2024 Makeup 9_7_24 (9_7_24)_ Clean shooters\n\nMatch Details: \n\nGates open at 8:00\nSafety meeting at 8:45\nMatch Begins at 9:00
URL:https://powdercreekcowboys.com/event/wild-bunch-monthly-match-4-4-4/
LOCATION:Powder Creek Shooting Park\, 8601 Monticello Rd.\, Lenexa\, KS\, 66227\, United States
CATEGORIES:2nd Saturday Shoot
END:VEVENT
BEGIN:VEVENT
DTSTART;TZID=UTC:20240914T080000
DTEND;TZID=UTC:20240914T130000
DTSTAMP:20260421T121940
CREATED:20240914T221847Z
LAST-MODIFIED:20240914T222014Z
UID:10000685-1726300800-1726318800@powdercreekcowboys.com
SUMMARY:Second Saturday Monthly Match
DESCRIPTION:Saturday 2024 9_14_24 (9_14_24)_ Overall Winners Details by Time\nSaturday 2024 9_14_24 (9_14_24)_ Clean shooters\nGates Open at 8:00\nSafety Meeting at 8:45\nMatch begins at 9:00
URL:https://powdercreekcowboys.com/event/second-saturday-monthly-match-10-3/
LOCATION:Powder Creek Shooting Park\, 8601 Monticello Rd.\, Lenexa\, KS\, 66227\, United States
CATEGORIES:2nd Saturday Shoot
END:VEVENT
BEGIN:VEVENT
DTSTART;TZID=UTC:20240918T080000
DTEND;TZID=UTC:20240918T170000
DTSTAMP:20260421T121940
CREATED:20240918T192716Z
LAST-MODIFIED:20240918T192742Z
UID:10000623-1726646400-1726678800@powdercreekcowboys.com
SUMMARY:Work Shirkers
DESCRIPTION:Wednesday 2024 9_18_24 (9_18_24)_ Overall Winners Details by Time\nWednesday 2024 9_18_24 (9_18_24)_ Clean shooters\n\nGates Open at 8:00\nSafety Meeting at 8:45\nMatch begins at 9:00
URL:https://powdercreekcowboys.com/event/work-shirkers-21-10/
LOCATION:Powder Creek Shooting Park\, 8601 Monticello Rd.\, Lenexa\, KS\, 66227\, United States
CATEGORIES:Work Shirkers
END:VEVENT
BEGIN:VEVENT
DTSTART;TZID=UTC:20240928T080000
DTEND;TZID=UTC:20240928T170000
DTSTAMP:20260421T121940
CREATED:20240929T130739Z
LAST-MODIFIED:20240929T130917Z
UID:10000879-1727510400-1727542800@powdercreekcowboys.com
SUMMARY:Fourth Saturday Shoot
DESCRIPTION:Match Results: \n\nSaturday 2024 9_28_24 (9_28_24)_ Overall Winners Details by Time\nSaturday 2024 9_28_24 (9_28_24)_ Clean shooters\nSaturday 2024 9_28_24 (9_28_24)_ Category Winners Details by Time\n\nMatch Details: \n\n\nGates Open at 8:00\nSafety Meeting at 8:45\nMatch begins at 9:00
URL:https://powdercreekcowboys.com/event/fourth-saturday-shoot-19-2/
LOCATION:Powder Creek Shooting Park\, 8601 Monticello Rd.\, Lenexa\, KS\, 66227\, United States
CATEGORIES:4th Saturday Shoot
END:VEVENT
END:VCALENDAR