BEGIN:VCALENDAR
VERSION:2.0
PRODID:-//Powder Creek Cowboys - ECPv6.15.20//NONSGML v1.0//EN
CALSCALE:GREGORIAN
METHOD:PUBLISH
X-ORIGINAL-URL:https://powdercreekcowboys.com
X-WR-CALDESC:Events for Powder Creek Cowboys
REFRESH-INTERVAL;VALUE=DURATION:PT1H
X-Robots-Tag:noindex
X-PUBLISHED-TTL:PT1H
BEGIN:VTIMEZONE
TZID:UTC
BEGIN:STANDARD
TZOFFSETFROM:+0000
TZOFFSETTO:+0000
TZNAME:UTC
DTSTART:20230101T000000
END:STANDARD
END:VTIMEZONE
BEGIN:VEVENT
DTSTART;TZID=UTC:20241002T080000
DTEND;TZID=UTC:20241002T130000
DTSTAMP:20260421T133856
CREATED:20241002T190116Z
LAST-MODIFIED:20241002T190118Z
UID:10000564-1727856000-1727874000@powdercreekcowboys.com
SUMMARY:Work Shirkers Match
DESCRIPTION:Wednesday WS 2024 10_02_24 (10_2_24)_ Overall Winners Details by Time\nWednesday WS 2024 10_02_24 (10_2_24)_ Clean shooters\nWednesday WS 2024 10_02_24 (10_2_24)_ Category Winners Details by Time\n\nGates Open at 8:30\nSafety Meeting at 9:45\nMatch begins at 10:00
URL:https://powdercreekcowboys.com/event/work-shirkers-match-2-12/
LOCATION:Powder Creek Shooting Park\, 8601 Monticello Rd.\, Lenexa\, KS\, 66227\, United States
CATEGORIES:Work Shirkers
END:VEVENT
BEGIN:VEVENT
DTSTART;TZID=UTC:20241012T080000
DTEND;TZID=UTC:20241012T130000
DTSTAMP:20260421T133856
CREATED:20241012T200851Z
LAST-MODIFIED:20241012T200915Z
UID:10000686-1728720000-1728738000@powdercreekcowboys.com
SUMMARY:Second Saturday Monthly Match
DESCRIPTION:October 2024 2nd Saturday (10_12_24)_ Overall Winners Details by Time\nOctober 2024 2nd Saturday (10_12_24)_ Category Winners Details by Time\nOctober 2024 2nd Saturday (10_12_24)_ Clean shooters\n\nGates Open at 8:30\nSafety Meeting at 9:45\nMatch begins at 10:00
URL:https://powdercreekcowboys.com/event/second-saturday-monthly-match-10-4/
LOCATION:Powder Creek Shooting Park\, 8601 Monticello Rd.\, Lenexa\, KS\, 66227\, United States
CATEGORIES:2nd Saturday Shoot
END:VEVENT
BEGIN:VEVENT
DTSTART;TZID=UTC:20241016T080000
DTEND;TZID=UTC:20241016T170000
DTSTAMP:20260421T133856
CREATED:20241016T195604Z
LAST-MODIFIED:20241016T195811Z
UID:10000624-1729065600-1729098000@powdercreekcowboys.com
SUMMARY:Work Shirkers
DESCRIPTION:2024 October 2nd Work Shirkers (10_16_24)_ Overall Winners by Time\n2024 October 2nd Work Shirkers (10_16_24)_ Clean shooters\n2024 October 2nd Work Shirkers (10_16_24)_ Category Winners by Time\n\nGates Open at 8:30\nSafety Meeting at 9:45\nMatch begins at 10:00
URL:https://powdercreekcowboys.com/event/work-shirkers-21-11/
LOCATION:Powder Creek Shooting Park\, 8601 Monticello Rd.\, Lenexa\, KS\, 66227\, United States
CATEGORIES:Work Shirkers
END:VEVENT
BEGIN:VEVENT
DTSTART;TZID=UTC:20241020T080000
DTEND;TZID=UTC:20241020T170000
DTSTAMP:20260421T133856
CREATED:20241020T201419Z
LAST-MODIFIED:20241020T202001Z
UID:10000950-1729411200-1729443600@powdercreekcowboys.com
SUMMARY:Pop-Up Cowboy Match
DESCRIPTION:2024 October Pop Up (10_20_24)_ Overall Winners Details by Time \n  \n2024 October Pop Up (10_20_24)_ Clean shooter \n  \n2024 October Pop Up (10_20_24)_ Category Winners Details by Time \n\ \n 
URL:https://powdercreekcowboys.com/event/pop-up-cowboy-match/
LOCATION:Powder Creek Shooting Park\, 8601 Monticello Rd.\, Lenexa\, KS\, 66227\, United States
END:VEVENT
BEGIN:VEVENT
DTSTART;VALUE=DATE:20241026
DTEND;VALUE=DATE:20241028
DTSTAMP:20260421T133856
CREATED:20240801T213442Z
LAST-MODIFIED:20240801T213442Z
UID:10000877-1729900800-1730073599@powdercreekcowboys.com
SUMMARY:Fire and Ice Kansas State Blackpowder Championship and Cowboy Action Match
DESCRIPTION:
URL:https://powdercreekcowboys.com/event/fire-and-ice-kansas-state-blackpowder-championship-and-cowboy-action-match/
LOCATION:Powder Creek Shooting Park\, 8601 Monticello Rd.\, Lenexa\, KS\, 66227\, United States
ATTACH;FMTTYPE=image/jpeg:https://powdercreekcowboys.com/wp-content/uploads/2024/07/POP2020-Day2-z6-245.jpg
END:VEVENT
BEGIN:VEVENT
DTSTART;TZID=UTC:20241030T080000
DTEND;TZID=UTC:20241030T130000
DTSTAMP:20260421T133856
CREATED:20241031T005426Z
LAST-MODIFIED:20241031T005427Z
UID:10000761-1730275200-1730293200@powdercreekcowboys.com
SUMMARY:Bonus Work Shirkers Match
DESCRIPTION:Match Results: \n\n2024 WS 10_30_24 (10_30_24)_ Category Winners Details by Time\n2024 WS 10_30_24 (10_30_24)_ Overall Winners Details by Time\n2024 WS 10_30_24 (10_30_24)_ Clean shooters
URL:https://powdercreekcowboys.com/event/bonus-work-shirkers-match-2-5/
LOCATION:Powder Creek Shooting Park\, 8601 Monticello Rd.\, Lenexa\, KS\, 66227\, United States
CATEGORIES:Match Results,Work Shirkers
END:VEVENT
END:VCALENDAR