BEGIN:VCALENDAR
VERSION:2.0
PRODID:-//Powder Creek Cowboys - ECPv6.15.20//NONSGML v1.0//EN
CALSCALE:GREGORIAN
METHOD:PUBLISH
X-WR-CALNAME:Powder Creek Cowboys
X-ORIGINAL-URL:https://powdercreekcowboys.com
X-WR-CALDESC:Events for Powder Creek Cowboys
REFRESH-INTERVAL;VALUE=DURATION:PT1H
X-Robots-Tag:noindex
X-PUBLISHED-TTL:PT1H
BEGIN:VTIMEZONE
TZID:UTC
BEGIN:STANDARD
TZOFFSETFROM:+0000
TZOFFSETTO:+0000
TZNAME:UTC
DTSTART:20240101T000000
END:STANDARD
END:VTIMEZONE
BEGIN:VEVENT
DTSTART;TZID=UTC:20250702T090000
DTEND;TZID=UTC:20250702T133000
DTSTAMP:20260420T102915
CREATED:20250702T205345Z
LAST-MODIFIED:20250702T205431Z
UID:10001643-1751446800-1751463000@powdercreekcowboys.com
SUMMARY:Work Shirkers Match
DESCRIPTION:Match Results: \n\nOverall Winners Details by Time\nCategory Winners Details by Time\nClean shooters\n\n 
URL:https://powdercreekcowboys.com/event/work-shirkers-match-2-13-4-3/
LOCATION:Powder Creek Shooting Park\, 8601 Monticello Rd.\, Lenexa\, KS\, 66227\, United States
CATEGORIES:Work Shirkers
END:VEVENT
BEGIN:VEVENT
DTSTART;TZID=UTC:20250705T090000
DTEND;TZID=UTC:20250705T130000
DTSTAMP:20260420T102915
CREATED:20250625T235355Z
LAST-MODIFIED:20250707T141454Z
UID:10001821-1751706000-1751720400@powdercreekcowboys.com
SUMMARY:July Wild Bunch Match
DESCRIPTION:Match Results: \nWild Bunch July 5 (7_5_25)_ Overall Winners Details by Time \nMatch details: \n\nGates Open at 9:00 am\nSafety Meeting at 9:45 am\nMatch Begins at 10:00 am
URL:https://powdercreekcowboys.com/event/july-wild-bunch-match/
LOCATION:Powder Creek Shooting Park\, 8601 Monticello Rd.\, Lenexa\, KS\, 66227\, United States
END:VEVENT
BEGIN:VEVENT
DTSTART;TZID=UTC:20250712T090000
DTEND;TZID=UTC:20250712T130000
DTSTAMP:20260420T102915
CREATED:20250704T182904Z
LAST-MODIFIED:20250712T190649Z
UID:10001761-1752310800-1752325200@powdercreekcowboys.com
SUMMARY:Second Saturday Cowboy Match
DESCRIPTION:Match Results: \n\nOverall Winners Details by Time\nCategory Winners Details by Time\nClean shooters
URL:https://powdercreekcowboys.com/event/second-saturday-cowboy-match/
LOCATION:Powder Creek Shooting Park\, 8601 Monticello Rd.\, Lenexa\, KS\, 66227\, United States
CATEGORIES:2nd Saturday Shoot
END:VEVENT
BEGIN:VEVENT
DTSTART;TZID=UTC:20250716T090000
DTEND;TZID=UTC:20250716T130000
DTSTAMP:20260420T102915
CREATED:20250716T183454Z
LAST-MODIFIED:20250716T183456Z
UID:10001584-1752656400-1752670800@powdercreekcowboys.com
SUMMARY:Work Shirkers
DESCRIPTION:Match Results: \n\nOverall Winners Details by Time\nCategory Winners Details by Time\nClean shooters
URL:https://powdercreekcowboys.com/event/work-shirkers-21-15/
LOCATION:Powder Creek Shooting Park\, 8601 Monticello Rd.\, Lenexa\, KS\, 66227\, United States
CATEGORIES:Work Shirkers
END:VEVENT
BEGIN:VEVENT
DTSTART;TZID=UTC:20250726T080000
DTEND;TZID=UTC:20250726T130000
DTSTAMP:20260420T102915
CREATED:20250726T210925Z
LAST-MODIFIED:20250726T210927Z
UID:10001829-1753516800-1753534800@powdercreekcowboys.com
SUMMARY:Fourth Saturday Cowboy
DESCRIPTION:Match Results: \n\nOverall Winners Details by Time\nCategory Winners Details by Time\nClean shooters
URL:https://powdercreekcowboys.com/event/fourth-saturday-shoot-19-7/
LOCATION:Powder Creek Shooting Park\, 8601 Monticello Rd.\, Lenexa\, KS\, 66227\, United States
CATEGORIES:4th Saturday Shoot
END:VEVENT
BEGIN:VEVENT
DTSTART;TZID=UTC:20250730T080000
DTEND;TZID=UTC:20250730T120000
DTSTAMP:20260420T102915
CREATED:20250716T183935Z
LAST-MODIFIED:20250730T190609Z
UID:10001015-1753862400-1753876800@powdercreekcowboys.com
SUMMARY:Bonus Work Shirkers Match
DESCRIPTION:Match Results \n\nOverall Winners Details by Time\nClean shooters
URL:https://powdercreekcowboys.com/event/bonus-work-shirkers-match-2-8/
LOCATION:Powder Creek Shooting Park\, 8601 Monticello Rd.\, Lenexa\, KS\, 66227\, United States
CATEGORIES:Work Shirkers
END:VEVENT
END:VCALENDAR